BEGIN:VCALENDAR
VERSION:2.0
PRODID:-// - ECPv6.6.3//NONSGML v1.0//EN
CALSCALE:GREGORIAN
METHOD:PUBLISH
X-ORIGINAL-URL:https://www.eavca.org
X-WR-CALDESC:Events for 
REFRESH-INTERVAL;VALUE=DURATION:PT1H
X-Robots-Tag:noindex
X-PUBLISHED-TTL:PT1H
BEGIN:VTIMEZONE
TZID:Africa/Nairobi
BEGIN:STANDARD
TZOFFSETFROM:+0300
TZOFFSETTO:+0300
TZNAME:EAT
DTSTART:20240101T000000
END:STANDARD
END:VTIMEZONE
BEGIN:VEVENT
DTSTART;VALUE=DATE:20241014
DTEND;VALUE=DATE:20241018
DTSTAMP:20260420T091524
CREATED:20241014T131142Z
LAST-MODIFIED:20241015T095210Z
UID:2015-1728864000-1729209599@www.eavca.org
SUMMARY:Inviting startups in Tanzania to Renew Capital's SPRINT!
DESCRIPTION:Renew Capital is excited to announce the launch of SPRINT\, a 10-week program designed to support early-stage\, tech and tech-enabled startups in Tanzania!\nWho they are looking for: \n\nMotivated entrepreneurs with an incorporated business\nHave a Minimum Viable Product (MVP)\nTech-enabled startups\, sector agnostic\nPre-revenue businesses can apply!\n\nWhy join the SPRINT? \n\nFlexible 10-week (Oct 21 – Dec 20) online program designed to fit the busy schedules of driven founders.\nIn-person coaching\, networking and peer learning opportunities.\nRefine your MVP\, validate it with customers and launch your business into the market with confidence.\nFounder commitment: just 2-6 hours per week\n\nThey have limited spaces so please apply now. The application window is open until October 17. \n\nApply Now!
URL:https://www.eavca.org/calendar-events/inviting-startups-in-tanzania-to-renew-capitals-sprint/
CATEGORIES:Partner Event
ATTACH;FMTTYPE=image/png:https://www.eavca.org/wp-content/uploads/2024/10/Renew-Startup-programme-in-TZ.png
END:VEVENT
BEGIN:VEVENT
DTSTART;TZID=Africa/Nairobi:20241104T080000
DTEND;TZID=Africa/Nairobi:20241106T170000
DTSTAMP:20260420T091524
CREATED:20240829T161535Z
LAST-MODIFIED:20240830T114357Z
UID:1947-1730707200-1730912400@www.eavca.org
SUMMARY:AVPA Conference
DESCRIPTION:The Africa Venture Philanthropy Alliance (AVPA) is hosting their annual conference\, themed around catalyzing Africa’s sustainable growth. With the continent facing significant challenges in achieving the Sustainable Development Goals (SDGs) by 2030\, the need for private capital and innovative financing structures is crucial. The 2024 AVPA Conference aims to address this gap by convening key actors—from capital providers to policymakers—to foster a conducive environment for sustainable growth. \nTake advantage of the extended early bird discount\, available until August 31st. Save 20% on your ticket and secure your spot at the premier event featuring transformative masterclasses\, excursions\, and workshops. \nGrab your ticket today: Click here
URL:https://www.eavca.org/calendar-events/avpa-conference/
LOCATION:Trademark Hotel\, Nairobi\, Kenya
CATEGORIES:Partner Event
ATTACH;FMTTYPE=image/png:https://www.eavca.org/wp-content/uploads/2024/08/AIIF-2024-Join_L.png
END:VEVENT
BEGIN:VEVENT
DTSTART;VALUE=DATE:20241118
DTEND;VALUE=DATE:20241121
DTSTAMP:20260420T091524
CREATED:20240926T122250Z
LAST-MODIFIED:20240926T122250Z
UID:1993-1731888000-1732147199@www.eavca.org
SUMMARY:African Agri Investment Indaba
DESCRIPTION:Date: 18th – 20th November 2024\nVenue: CTICC\, Cape Town\, South Africa\n\nThe African Agri Investment Indaba (AAII) hosted by the Western Cape Government is the global meeting place for agrifood investment in Africa. Bringing together over 800 key stakeholders – from governments\, banks\, financiers\, investors\, project owners\, project developers\, commercial farmers and the agro and food processing industry – to discuss trends that will likely influence food and agribusiness economics over the next decade in Africa.\nThe Agri Indaba delivers a unique mix of decision makers from across the food and agriculture value chain making it the most effective place to conduct business in the sector. \nRegister Here: Link
URL:https://www.eavca.org/calendar-events/african-agri-investment-indaba/
LOCATION:CTICC\, Cape Town\, South Africa
CATEGORIES:Partner Event
ATTACH;FMTTYPE=image/png:https://www.eavca.org/wp-content/uploads/2024/09/AAII24-Web.png
END:VEVENT
BEGIN:VEVENT
DTSTART;VALUE=DATE:20241203
DTEND;VALUE=DATE:20241206
DTSTAMP:20260420T091524
CREATED:20240911T082647Z
LAST-MODIFIED:20240911T082836Z
UID:1962-1733184000-1733443199@www.eavca.org
SUMMARY:SuperReturn Africa
DESCRIPTION:Date: 3- 5 December 2024 \nVenue: The Westin Cape Town \nSuperReturn Africa is back and bigger than ever this December! \nMeet the leading names that are shaping the future of African private capital. Join 700+ attendees including 200+ LPs and 350+ GPs for three days full of invaluable networking and unmissable content focused on fundraising\, infrastructure\, creatives\, credit\, crisis control and more. \nOur unique agenda offers the latest insights on fundraising and exits\, LP mandates\, infrastructure trends\, African art\, film and fashion\, DEI and much more! \nNetworking has never been easier with an array of opportunities including drinks receptions\, the GP and Service Provider Awards Ceremony\, exclusive closed-door sessions and VC\, LP and GP breakfast masterclasses. \nHear from 175+ thought leaders specialising in African private equity\, with speakers from Africa\, Europe\, USA\, Middle East\, APAC and beyond! Expert speakers include Casey Family Programs\, GIPF\, IFC\, BII\, Shell Foundation\, Alterra Capital Partners\, AIIM\, AfricInvest and more. \nRegister here: Click here \nUse discount code: FKR3547EAVCA
URL:https://www.eavca.org/calendar-events/superreturn-africa-2/
LOCATION:The Westin Cape Town\, South Africa
CATEGORIES:Partner Event
ATTACH;FMTTYPE=image/png:https://www.eavca.org/wp-content/uploads/2024/09/SR-Africa-x-EAVCA-social-banner-.png
END:VEVENT
BEGIN:VEVENT
DTSTART;VALUE=DATE:20250219
DTEND;VALUE=DATE:20250222
DTSTAMP:20260420T091524
CREATED:20241016T080358Z
LAST-MODIFIED:20241016T080358Z
UID:2019-1739923200-1740182399@www.eavca.org
SUMMARY:2025 Africa’s Green Economy Summit
DESCRIPTION:Date: 19 – 21 February 2025\nVenue: Century City Convention Centre\, Cape Town\n\nJoin us at Africa’s Green Economy Summit\, where global capital meets African opportunity!\nNow in its 3rd edition\, this premier event bridges the gap between global investors\, African governments\, project owners\, and business leaders\, all united in driving an inclusive green economy across Africa. With a focus on connecting sectors\, showcasing transformative projects\, enabling partnerships\, and facilitating funding commitments\, the Summit is your gateway to shaping a climate-resilient Africa.\nOur 2025 theme\, ‘Building a Climate Resilient Africa: Catalysing Investment and Innovation in the Green and Blue Economies\,’ underscores the urgency and potential of our mission.\nJoin us on this transformative journey!\nRegister here
URL:https://www.eavca.org/calendar-events/2025-africas-green-economy-summit/
LOCATION:Century City  Convention Centre\, Cape Town\, South Africa
CATEGORIES:Conference,Partner Event
ATTACH;FMTTYPE=image/png:https://www.eavca.org/wp-content/uploads/2024/10/AGES.png
END:VEVENT
BEGIN:VEVENT
DTSTART;VALUE=DATE:20250220
DTEND;VALUE=DATE:20250222
DTSTAMP:20260420T091524
CREATED:20250208T125218Z
LAST-MODIFIED:20250210T110221Z
UID:2108-1740009600-1740182399@www.eavca.org
SUMMARY:Insurtech Forum Nairobi
DESCRIPTION:Date:  20 – 21 February\, 2025. \nVenue: Emara Ole Sereni\, Nairobi. \nTheme: Empowering Insurance Through AI Agents: Practical Impact and Future Horizons \nJoin the Institute of Insurance Kenya and Caava VantagePoint AI for a landmark insurtech conference. Explore the future horizons of AI agents in insurance\, examining the latest trends and innovations that are poised to revolutionize the industry.
URL:https://www.eavca.org/calendar-events/insurtech-forum-nairobi/
LOCATION:Emara Ole-Sereni\, Nairobi\, Kenya
CATEGORIES:Partner Event
ATTACH;FMTTYPE=image/png:https://www.eavca.org/wp-content/uploads/2025/02/EAVCA-BROCHURE-ITFN.png
END:VEVENT
BEGIN:VEVENT
DTSTART;TZID=Africa/Nairobi:20250224T160000
DTEND;TZID=Africa/Nairobi:20250224T173000
DTSTAMP:20260420T091524
CREATED:20250220T094828Z
LAST-MODIFIED:20250220T105719Z
UID:2120-1740412800-1740418200@www.eavca.org
SUMMARY:Harnessing Private Capital for Inclusive Growth and Economic Transformation
DESCRIPTION:The Inclusive FinTech Forum is a premier event that brings together global and regional leaders\, policymakers\, entrepreneurs\, investors\, and innovators to discuss and advance the role of financial technology in promoting economic inclusion and sustainable development. Building upon the success of the inaugural edition in 2023\, which welcomed two Heads of State\, the First Lady of Rwanda\, and over 2\,000 global delegates\, The Inclusive Fintech Forum 2025 will focus on “Empowering Economic Inclusion through Accelerated Technology Adoption in Emerging Markets\,” which will feature high-level dialogues and impactful meetings. \nSecure Your Complimentary Access\nRegister now using the link below and apply the code CPIFFEAVCA for complimentary access. \nHere’s the link: Register Now
URL:https://www.eavca.org/calendar-events/harnessing-private-capital-for-inclusive-growth-and-economic-transformation/
LOCATION:Kigali Convention Center\, Rwanda
CATEGORIES:EAVCA Event,Partner Event,Summit
ATTACH;FMTTYPE=image/jpeg:https://www.eavca.org/wp-content/uploads/2025/02/FintechForum-Main.jpg
END:VEVENT
BEGIN:VEVENT
DTSTART;TZID=Africa/Nairobi:20250226T080000
DTEND;TZID=Africa/Nairobi:20250227T170000
DTSTAMP:20260420T091525
CREATED:20250206T041847Z
LAST-MODIFIED:20250208T124214Z
UID:2094-1740556800-1740675600@www.eavca.org
SUMMARY:Sankalp Africa Summit
DESCRIPTION:Date: 26 – 27\, February 2025 \nVenue: The Edge Convention Centre\, Nairobi| \nTheme: Scaling Africa’s Enterpreneurs \nJoin over 1800 delegates at Africa’s premier summit on Inclusive Development\, Entrepreneurship\, and Innovation\, the #SankalpAfrica2025 Summit. This 2-day experience will be packed with engaging conversations\, collaborations\, and curated opportunities to connect with entrepreneurs\, investors\, funders\, donors\, and corporations from across the globe. \nBuy your tickets now: https://bit.ly/SankalpAfricaSummit25
URL:https://www.eavca.org/calendar-events/sankalp-africa-summit-2/
LOCATION:The Edge Convention Center\, Nairobi\, Kenya
CATEGORIES:Partner Event
ATTACH;FMTTYPE=image/jpeg:https://www.eavca.org/wp-content/uploads/2025/02/sankalp.jpg
END:VEVENT
BEGIN:VEVENT
DTSTART;VALUE=DATE:20250312
DTEND;VALUE=DATE:20250313
DTSTAMP:20260420T091525
CREATED:20250312T191207Z
LAST-MODIFIED:20250312T191225Z
UID:2156-1741737600-1741823999@www.eavca.org
SUMMARY:Africa Impact Investment Awards 2025: Nominations Are Open!
DESCRIPTION:The Africa Impact Investment Awards\, sponsored by FirstRand\, recognise success in the rapidly growing impact investing industry. They celebrate outstanding achievements and contributions that drive positive social and environmental change while creating value for investors in Africa. These awards shine a spotlight on excellence in impact investments. \nAs a proud partner of the Africa Impact Investment Awards\, EAVCA is excited to support the recognition of impactful investments and initiatives across the continent. \nNomination process:\nNominees submit a nomination form for their respective category\, alongside any supporting evidence. All nominations go through an initial screening to check they meet the screening criteria identified in the category description. From there\, a shortlist is identified. The shortlisted nominee forms and supporting documents are then provided to an independent judging panel\, who review\, score\, and decide a winner for each category. \nSubmit your nominations at: kaiia.krutham.com \nNominations close on 14 March 2025. The results will be announced on 12 June 2025 at the Africa Impact Summit.
URL:https://www.eavca.org/calendar-events/africa-impact-investment-awards-2025-nominations-are-open/
CATEGORIES:Partner Event
ATTACH;FMTTYPE=image/png:https://www.eavca.org/wp-content/uploads/2025/03/Partner-announcement-post-2.png
END:VEVENT
BEGIN:VEVENT
DTSTART;VALUE=DATE:20250408
DTEND;VALUE=DATE:20250410
DTSTAMP:20260420T091525
CREATED:20240911T083219Z
LAST-MODIFIED:20250326T080650Z
UID:1969-1744070400-1744243199@www.eavca.org
SUMMARY:PIAfrica 2025: Investing For Tomorrow To Achieve Maximum Impact And Sustainable Economic Growth
DESCRIPTION:Date: 8th and 9th April 2025 \nVenue: Intercontinental Hotel & Resort\, Mauritius \nThe 8th edition of the annual Africa pension funds and alternative investments conference\, PIAFRICA is set to take place on 8th and 9th April 2025\, at the Intercontinental Hotel & Resort\, Mauritius. This unique unrivalled event brings together key decision makers from the African pension funds\, regulatory agencies\, alternative investment managers\, development financial institutions and other industry leaders and stakeholders interested in collaborating and working with the African pension funds to achieve maximum impact and sustainable economic growth. \nThe 2025 edition will feature a pre-event one day masterclass training on “Understanding Alternative Investments” aimed at various members of pension funds\, asset owners\, and trustees to advance their technical capabilities and equip them with the necessary skills and know how ensuring a better understanding of how to use alternatives in portfolio allocations\, insights on the different purposes of alternatives and ways to identify anticipated outcomes. \nPIAFRICA 2025 is set to be a pivotal event to shape and influence the convergence of pension funds strategies that will have an impact on accelerating economic development across the continent\, the event provides access to a unique platform to gain knowledge and create meaningful business connections.\n \nRegistration Link: Click Here
URL:https://www.eavca.org/calendar-events/piafrica-2025-investing-for-tomorrow-to-achieve-maximum-impact-and-sustainable-economic-growth/
LOCATION:Intercontinental Resort\, Mauritius
CATEGORIES:Partner Event
ATTACH;FMTTYPE=image/jpeg:https://www.eavca.org/wp-content/uploads/2024/09/PIAFRICA-Banner2025-EN.jpg
END:VEVENT
BEGIN:VEVENT
DTSTART;VALUE=DATE:20250428
DTEND;VALUE=DATE:20250503
DTSTAMP:20260420T091525
CREATED:20250305T051908Z
LAST-MODIFIED:20250310T093302Z
UID:2133-1745798400-1746230399@www.eavca.org
SUMMARY:21st Annual AVCA Conference & VC Summit
DESCRIPTION:Theme: Bold Moves: Powering 10x in Africa \nThe 21st Annual AVCA Conference & VC Summit is Africa’s leading private capital event\, bringing together investors\, entrepreneurs\, policymakers\, and business leaders to discuss the continent’s most promising investment opportunities. From 28th April to 2nd May 2025\, join us at the Lagos Continental Hotel for an unparalleled gathering of thought leaders and decision-makers dedicated to driving sustainable growth across Africa. \nAs the premier platform for private capital discussions\, the conference will host delegates from over 50 countries\, fostering meaningful conversations on how to mobilize capital for Africa’s future. This year’s theme\, “Bold Moves: Powering 10x in Africa”\, highlights the urgent need for transformative growth\, while tackling the challenges of market volatility\, currency fluctuations\, and exit constraints. Focus will also be on innovative financing solutions\, dynamic value-creation strategies\, and the importance of collaboration between fund managers\, DFIs\, and commercial investors. \nTo secure your spot Register today.
URL:https://www.eavca.org/calendar-events/21st-annual-avca-conference-vc-summit-bold-moves-powering-10x-in-africa/
LOCATION:Lagos Continental Hotel\, Nigeria
CATEGORIES:Conference,Partner Event
ATTACH;FMTTYPE=image/png:https://www.eavca.org/wp-content/uploads/2025/03/AVCA-Conference-banner-for-website.png
END:VEVENT
BEGIN:VEVENT
DTSTART;VALUE=DATE:20250527
DTEND;VALUE=DATE:20250531
DTSTAMP:20260420T091525
CREATED:20250307T122908Z
LAST-MODIFIED:20250522T102359Z
UID:2141-1748304000-1748649599@www.eavca.org
SUMMARY:2025 KPMG Private Enterprise Africa Venture Summit
DESCRIPTION:We are thrilled to extend an exclusive invitation to you for the upcoming KPMG Private Enterprise Venture Summit 2025. \nGet ready to immerse yourself in an experience of innovation and connection filled with insightful panel discussions\, interactive thematic sessions with industry leaders\, deal rooms\, networking opportunities\, and much more. \nThis edition of the summit promises to be our most dynamic yet\, with a lineup of African and global speakers who are trailblazers in their respective fields. You’ll have the chance to engage with ecosystem players who are redefining the landscape of private capital\, innovation\, entrepreneurship\, and beyond. \nWhether you’re a founder seeking funding\, an investor scouting for the next big opportunity\, or a strategic partner passionate about innovation and investments\, the Venture Summit is your ticket to the pulse of the entrepreneurial ecosystem. \nSpaces are limited\, don’t miss out on this extraordinary opportunity to be part of something truly transformative. \nWe look forward to welcoming you to the Venture Summit 2025 and to the exciting conversations and connections that await! \nRSVP Now
URL:https://www.eavca.org/calendar-events/2025-kpmg-private-enterprise-africa-venture-summit/
CATEGORIES:Partner Event,Summit
ATTACH;FMTTYPE=image/png:https://www.eavca.org/wp-content/uploads/2025/03/KPMG-Venture-Summit.png
END:VEVENT
BEGIN:VEVENT
DTSTART;VALUE=DATE:20250909
DTEND;VALUE=DATE:20250911
DTSTAMP:20260420T091525
CREATED:20250812T072827Z
LAST-MODIFIED:20250813T161715Z
UID:2275-1757376000-1757548799@www.eavca.org
SUMMARY:Nairobi Climate Tech Summit
DESCRIPTION:Join AfricArena in Nairobi for a dynamic two-day summit as it brings together East Africa’s most promising ClimateTech startups and the region’s leading tech and investment professionals. The summit will feature 20+ carefully selected startups pitching their innovations to a curated audience of investors\, alongside keynote addresses\, expert-led panels\, and interactive discussions offering cutting-edge insights into Africa’s evolving tech landscape. Supported by renowned partners such as AWS Startups\, Kenya Airways\, KCIC\, GIZ\, SAIS\, and Silicon Overdrive\, this event is a premier platform to connect\, collaborate\, and invest in Africa’s innovation ecosystem. \nFor more information and to register\, visit www.africarena.com.  
URL:https://www.eavca.org/calendar-events/nairobi-climate-take-summit/
LOCATION:Shamba Events\, Nairobi\, Kenya
CATEGORIES:EAVCA Event,Partner Event
ATTACH;FMTTYPE=image/png:https://www.eavca.org/wp-content/uploads/2025/08/AfricArena-Nairobi-Summit-Visual-2025-1200x627-px-1.png
END:VEVENT
BEGIN:VEVENT
DTSTART;VALUE=DATE:20251014
DTEND;VALUE=DATE:20251016
DTSTAMP:20260420T091525
CREATED:20250515T060919Z
LAST-MODIFIED:20250515T061006Z
UID:2211-1760400000-1760572799@www.eavca.org
SUMMARY:AFSIC – Investing in Africa 2025
DESCRIPTION:The East Africa Venture Capital Association (EAVCA) is proud to announce its partnership with AFSIC – Investing in Africa 2025\, scheduled for October 14–15\, 2025\, at the Park Plaza Westminster Bridge Hotel\, London.AFSIC is recognized as one of Africa’s premier investment events\, bringing together over 1\,500 senior leaders and 350+ investors to explore investment strategies\, pitch opportunities\, and gain insights across the continent’s key sectors—including fintech\, infrastructure\, sustainable development\, and agriculture. \nAttendees can look forward to dynamic panels\, interactive networking sessions\, and curated deal rooms\, offering a platform to unpack economic trends and the fundraising outlook shaping Africa’s private capital landscape. Take advantage of early registration rates before May 31\, 2025\, and enjoy an exclusive 20% discount with our EAVCA code: AF25P20. For more information and to register\, visit the AFSIC 2025 website.
URL:https://www.eavca.org/calendar-events/afsic-investing-in-africa-2025/
LOCATION:Park Plaza Westminster Bridge Hotel\, London
CATEGORIES:Networking,Partner Event
ATTACH;FMTTYPE=image/png:https://www.eavca.org/wp-content/uploads/2025/05/AFSIC_Advert_Partner_Code_20__Discount_FB_1200x630_AF25P10_May_AGENDA_LIVE_Early_Bird.png
END:VEVENT
BEGIN:VEVENT
DTSTART;VALUE=DATE:20251202
DTEND;VALUE=DATE:20251205
DTSTAMP:20260420T091525
CREATED:20251007T083420Z
LAST-MODIFIED:20251010T055813Z
UID:2344-1764633600-1764892799@www.eavca.org
SUMMARY:SuperReturn Africa
DESCRIPTION:SuperReturn Africa returns on 2–4 December 2025 at The Westin\, Cape Town\, bringing together 700+ senior private capital professionals\, including 350+ GPs and 200+ LPs\, to shape the future of Africa’s private markets. Expect world-class networking\, fresh insights on fundraising\, exits\, private credit\, infrastructure\, and frontier sectors like music\, gaming\, and IP\, plus visionary speakers from institutions including the Public Investment Corporation\, Government Institutions Pension Fund (GIPF)\,  U.S. International Development Finance Corporation (DFC)\, EBRD\, and many more.\nNew features this year include the Private Credit Summit\, Alternative fund structures\, and “For Africa’s Future: Intent to Impact.” \nUse the exclusive EAVCA discount code FKR3548EAVCA for 10% off. \nLearn more and register here: click here
URL:https://www.eavca.org/calendar-events/superreturn-africa-3/
LOCATION:The Westin Cape Town\, South Africa
CATEGORIES:Partner Event
ATTACH;FMTTYPE=image/png:https://www.eavca.org/wp-content/uploads/2025/10/Africa-externals-find-out-more-graphic.png
END:VEVENT
BEGIN:VEVENT
DTSTART;VALUE=DATE:20260216
DTEND;VALUE=DATE:20260217
DTSTAMP:20260420T091525
CREATED:20260211T070542Z
LAST-MODIFIED:20260211T070542Z
UID:2399-1771200000-1771286399@www.eavca.org
SUMMARY:Africa Impact Investment Awards 2026
DESCRIPTION:The Africa Impact Investment Awards celebrate excellence in investments that drive meaningful change across the continent. These awards recognise organisations and individuals delivering measurable social and environmental impact while creating value for investors\, shining a spotlight on achievements that truly make a difference. \nEligibility: Organisations or individuals demonstrating intentional\, accountable impact through their investments. \nNominations close: 16 February 2026 \nApply or nominate here: https://kaiia.krutham.com/
URL:https://www.eavca.org/calendar-events/africa-impact-investment-awards-2026/
CATEGORIES:Partner Event
ATTACH;FMTTYPE=image/png:https://www.eavca.org/wp-content/uploads/2026/02/3.png
END:VEVENT
BEGIN:VEVENT
DTSTART;TZID=Africa/Nairobi:20260225T080000
DTEND;TZID=Africa/Nairobi:20260226T170000
DTSTAMP:20260420T091525
CREATED:20260211T071044Z
LAST-MODIFIED:20260211T071044Z
UID:2401-1772006400-1772125200@www.eavca.org
SUMMARY:Sankalp Africa Summit 2026 – Nairobi\, Kenya
DESCRIPTION:Join 1\,200+ founders\, investors\, and ecosystem leaders from Africa\, Asia\, Latin America\, and the Middle East at the 13th edition of the Sankalp Africa Summit. This year’s theme\, South–South Rising\, brings together capital allocators\, enterprises\, and ecosystem builders shaping the next phase of growth across the Global South. \nOver two days\, experience curated investor showcases\, live pitching\, deal rooms\, and closed-door roundtables focused on climate\, agriculture and food systems\, healthcare\, circular economy\, sustainable manufacturing\, and the creative economy. \n📍 Nairobi\, Kenya | 25–26 February 2026 \nEAVCA members enjoy 15% off individual tickets and Groups of 5 or more participants\, including portfolio founders or team members\, qualify for a 20% delegation discount. \nGet a copy of the Event’s Agenda \nRegister now: www.sankalpforum.com
URL:https://www.eavca.org/calendar-events/sankalp-africa-summit-2026-nairobi-kenya/
CATEGORIES:Partner Event
ATTACH;FMTTYPE=image/png:https://www.eavca.org/wp-content/uploads/2026/02/1.png
END:VEVENT
BEGIN:VEVENT
DTSTART;VALUE=DATE:20260310
DTEND;VALUE=DATE:20260313
DTSTAMP:20260420T091525
CREATED:20260211T063738Z
LAST-MODIFIED:20260211T070054Z
UID:2397-1773100800-1773359999@www.eavca.org
SUMMARY:Inclusive FinTech Forum 2026 – Kigali\, Rwanda
DESCRIPTION:Join Africa’s premier platform for fintech innovation\, investment\, and policy at IFF 2026\, happening 10–12 March 2026 at the Kigali Convention Centre. Connect with 3\,000+ global delegates\, world-class speakers\, and industry leaders to explore how fintech can drive financial inclusion and impact. \nThis year’s theme\, “Shaping the Future of Inclusive Finance: Innovation. Impact. Connection.”\, will spotlight: \n1. Building Africa’s Digital Currency Corridor & cross-border commerce\n2. AI-powered financial inclusion solutions\n3. Open finance ecosystems linking Africa to global markets\n4. Climate fintech and financing a green future \nBe part of the conversation. Shape Africa’s fintech future. \nRegister for IFF 2026: https://www.inclusivefintechforum.com/
URL:https://www.eavca.org/calendar-events/inclusive-fintech-forum-2026-kigali-rwanda/
LOCATION:Kigali Convention Center\, Rwanda
CATEGORIES:Partner Event
ATTACH;FMTTYPE=image/png:https://www.eavca.org/wp-content/uploads/2026/02/2.png
END:VEVENT
BEGIN:VEVENT
DTSTART;VALUE=DATE:20260427
DTEND;VALUE=DATE:20260502
DTSTAMP:20260420T091525
CREATED:20260324T072922Z
LAST-MODIFIED:20260327T070552Z
UID:2424-1777248000-1777679999@www.eavca.org
SUMMARY:Break The Mold: Reshaping The Future of African Private Capital
DESCRIPTION:Join the 22nd Annual AVCA Conference & VC Summit for a transformative experience\, filled with thoughtfully curated insights\, high-impact networking and opportunities to engage with the ideas shaping the continent’s investment landscape. \nUnder the theme Break The Mold: Reshaping the Future of African Private Capital\, this year’s agenda explores the next wave of transformation shaping Africa’s investment landscape. Key focus areas include: \n\nInnovative investment structures that unlock scalable and inclusive growth\nPrivate credit and alternative financing solutions driving resilience across markets\nInfrastructure and real-asset opportunities enabling long-term value creation and economic stability\nVenture ecosystems accelerating technology advancement and digital transformation\nThe expanding role of local institutional allocators in shaping capital flows and drive📍Radisson Blu Hotel\, Nairobi Upper Hill\n🗓️ Monday\, 27 April – Friday\, 1 May 2026Secure your place today: \n  \nFor more information: Click here
URL:https://www.eavca.org/calendar-events/break-the-mold-reshaping-the-future-of-african-private-capital/
LOCATION:Radisson Blu Hotel\, Nairobi Upper Hill\, Kenya
CATEGORIES:Conference,Partner Event
ATTACH;FMTTYPE=image/png:https://www.eavca.org/wp-content/uploads/2026/03/Annual-AVCA.png
END:VEVENT
BEGIN:VEVENT
DTSTART;TZID=Africa/Nairobi:20260427T083000
DTEND;TZID=Africa/Nairobi:20260427T183000
DTSTAMP:20260420T091525
CREATED:20260408T104803Z
LAST-MODIFIED:20260408T105320Z
UID:2433-1777278600-1777314600@www.eavca.org
SUMMARY:Portfolio Construction Masterclass
DESCRIPTION:Are You A Fund Manager Building Your Fund Portfolio? \nAVCA Portfolio Construction Masterclass\,  In Partnership with EAVCA ️ Monday\, 27 April 2026\, 08:30 –18:30 (EAT)\nDesigned to help African PE and VC fund managers build stronger\, more resilient portfolios. Learn how to translate fund strategy into portfolio parameters\, apply structured scoring frameworks\, allocate capital coherently\, and embed exit readiness from day one. \nFacilitator: Hany Assaad\, Non-Executive Chairman\, Avanz Capital Egypt. \nRegister through this link 
URL:https://www.eavca.org/calendar-events/portfolio-construction-masterclass/
LOCATION:Radisson Blu Hotel\, Nairobi Upper Hill\, Kenya
CATEGORIES:EAVCA Event,Partner Event,Summit
ATTACH;FMTTYPE=image/png:https://www.eavca.org/wp-content/uploads/2026/04/EAVCA-News.png
END:VEVENT
END:VCALENDAR