BEGIN:VCALENDAR
VERSION:2.0
PRODID:-// - ECPv6.6.3//NONSGML v1.0//EN
CALSCALE:GREGORIAN
METHOD:PUBLISH
X-ORIGINAL-URL:https://www.eavca.org
X-WR-CALDESC:Events for 
REFRESH-INTERVAL;VALUE=DURATION:PT1H
X-Robots-Tag:noindex
X-PUBLISHED-TTL:PT1H
BEGIN:VTIMEZONE
TZID:Africa/Nairobi
BEGIN:STANDARD
TZOFFSETFROM:+0300
TZOFFSETTO:+0300
TZNAME:EAT
DTSTART:20240101T000000
END:STANDARD
END:VTIMEZONE
BEGIN:VEVENT
DTSTART;VALUE=DATE:20241014
DTEND;VALUE=DATE:20241018
DTSTAMP:20260419T191203
CREATED:20241014T131142Z
LAST-MODIFIED:20241015T095210Z
UID:2015-1728864000-1729209599@www.eavca.org
SUMMARY:Inviting startups in Tanzania to Renew Capital's SPRINT!
DESCRIPTION:Renew Capital is excited to announce the launch of SPRINT\, a 10-week program designed to support early-stage\, tech and tech-enabled startups in Tanzania!\nWho they are looking for: \n\nMotivated entrepreneurs with an incorporated business\nHave a Minimum Viable Product (MVP)\nTech-enabled startups\, sector agnostic\nPre-revenue businesses can apply!\n\nWhy join the SPRINT? \n\nFlexible 10-week (Oct 21 – Dec 20) online program designed to fit the busy schedules of driven founders.\nIn-person coaching\, networking and peer learning opportunities.\nRefine your MVP\, validate it with customers and launch your business into the market with confidence.\nFounder commitment: just 2-6 hours per week\n\nThey have limited spaces so please apply now. The application window is open until October 17. \n\nApply Now!
URL:https://www.eavca.org/calendar-events/inviting-startups-in-tanzania-to-renew-capitals-sprint/
CATEGORIES:Partner Event
ATTACH;FMTTYPE=image/png:https://www.eavca.org/wp-content/uploads/2024/10/Renew-Startup-programme-in-TZ.png
END:VEVENT
END:VCALENDAR