BEGIN:VCALENDAR
VERSION:2.0
PRODID:-// - ECPv6.6.3//NONSGML v1.0//EN
CALSCALE:GREGORIAN
METHOD:PUBLISH
X-ORIGINAL-URL:https://www.eavca.org
X-WR-CALDESC:Events for 
REFRESH-INTERVAL;VALUE=DURATION:PT1H
X-Robots-Tag:noindex
X-PUBLISHED-TTL:PT1H
BEGIN:VTIMEZONE
TZID:Africa/Nairobi
BEGIN:STANDARD
TZOFFSETFROM:+0300
TZOFFSETTO:+0300
TZNAME:EAT
DTSTART:20240101T000000
END:STANDARD
END:VTIMEZONE
BEGIN:VEVENT
DTSTART;VALUE=DATE:20241002
DTEND;VALUE=DATE:20241005
DTSTAMP:20260419T204243
CREATED:20240729T131247Z
LAST-MODIFIED:20240826T120315Z
UID:1852-1727827200-1728086399@www.eavca.org
SUMMARY:Blue Economy Innovation and Investment Summit
DESCRIPTION:Date: 2nd – 4th of October\, 2024\nVenue: Sarova Whitesands\nRegistration Link: Click here
URL:https://www.eavca.org/calendar-events/blue-economy-innovation-and-investment-summit/
LOCATION:Sarova White Sands Beach Resort & Spa\, Mombasa\, Coast\, Kenya
CATEGORIES:Partner Event
ATTACH;FMTTYPE=image/png:https://www.eavca.org/wp-content/uploads/2024/07/Blue-Economy-Innovation-and-Investment-Summit.png
END:VEVENT
END:VCALENDAR