BEGIN:VCALENDAR
VERSION:2.0
PRODID:-// - ECPv6.6.3//NONSGML v1.0//EN
CALSCALE:GREGORIAN
METHOD:PUBLISH
X-ORIGINAL-URL:https://www.eavca.org
X-WR-CALDESC:Events for 
REFRESH-INTERVAL;VALUE=DURATION:PT1H
X-Robots-Tag:noindex
X-PUBLISHED-TTL:PT1H
BEGIN:VTIMEZONE
TZID:Africa/Nairobi
BEGIN:STANDARD
TZOFFSETFROM:+0300
TZOFFSETTO:+0300
TZNAME:EAT
DTSTART:20240101T000000
END:STANDARD
END:VTIMEZONE
BEGIN:VEVENT
DTSTART;VALUE=DATE:20240610
DTEND;VALUE=DATE:20240612
DTSTAMP:20260420T011445
CREATED:20240606T141826Z
LAST-MODIFIED:20240606T142724Z
UID:1783-1717977600-1718150399@www.eavca.org
SUMMARY:Connect with investors at the 2024 KPMG Private Enterprise Africa Venture Summit
DESCRIPTION:Date: 10–11 June 2024\nLocation:  Movenpick Hotel\, Nairobi Kenya \nRegister here: Click here \nNote: 5% discount for EAVCA members \nJoin us in Nairobi Kenya from 10–11 June 2024 for the 2024 KPMG Private Enterprise Africa Venture Summit \nWe are thrilled to extend an exclusive invitation to you for the upcoming inaugural KPMG Private Enterprise Venture Summit 2024. \nGet ready to immerse yourself in a 2-day experience of innovation and connection filled with insightful panel discussions\, interactive thematic sessions with industry leaders\, reverse investor pitching\, deal rooms\, networking opportunities\, and much more. \nThe inaugural summit promises to be our most dynamic yet\, with a lineup of African and global speakers who are trailblazers in their respective fields. Here’s a sneak peek of the speakers to expect. \nYou’ll have the chance to engage with ecosystem players who are redefining the landscape of private capital\, technology\, and beyond.\nWhether you’re a founder seeking funding\, an investor scouting for the next big opportunity\, or a strategic partner passionate about innovation and investments\, the Venture Summit is your ticket to the pulse of the\nentrepreneurial ecosystem. \nSpaces are limited\, don’t miss out on this extraordinary opportunity to be part of something truly transformative. \nWe look forward to welcoming you to the Venture Summit 2024 and to the exciting conversations and connections that await!
URL:https://www.eavca.org/calendar-events/connect-with-investors-at-the-2024-kpmg-private-enterprise-africa-venture-summit/
LOCATION:Movenpick Hotel\, Nairobi\, Nairobi\, Nairobi\, Kenya
CATEGORIES:Partner Event
ATTACH;FMTTYPE=image/png:https://www.eavca.org/wp-content/uploads/2024/06/kpmg.png
END:VEVENT
END:VCALENDAR