BEGIN:VCALENDAR
VERSION:2.0
PRODID:-// - ECPv6.6.3//NONSGML v1.0//EN
CALSCALE:GREGORIAN
METHOD:PUBLISH
X-ORIGINAL-URL:https://www.eavca.org
X-WR-CALDESC:Events for 
REFRESH-INTERVAL;VALUE=DURATION:PT1H
X-Robots-Tag:noindex
X-PUBLISHED-TTL:PT1H
BEGIN:VTIMEZONE
TZID:Africa/Nairobi
BEGIN:STANDARD
TZOFFSETFROM:+0300
TZOFFSETTO:+0300
TZNAME:EAT
DTSTART:20230101T000000
END:STANDARD
END:VTIMEZONE
BEGIN:VEVENT
DTSTART;TZID=Africa/Nairobi:20230730T080000
DTEND;TZID=Africa/Nairobi:20230730T170000
DTSTAMP:20260422T163027
CREATED:20230706T201558Z
LAST-MODIFIED:20230706T201558Z
UID:1099-1690704000-1690736400@www.eavca.org
SUMMARY:JICA-Ninja Accelerator in Kenya Cohort 3 Applications
DESCRIPTION:NINJA Kenya offers strategic partnerships\, mentorships\, and access to investments to foster enhanced business growth and contribute to social development in the country. We bring together local and global expertise to fast-track the growth of participating entrepreneurs. \nCriteria:  \nWe are seeking pre-seed or seed stage businesses with passionate founders and a senior leadership team capable of – and committed to – an accelerated scale-up process and seeking to accept large investments and strategic partners. To be eligible\, businesses should have been in operation for a minimum of 2 years\, demonstrate proof of product-market fit\, and sustain revenue for at least 6 months.
URL:https://www.eavca.org/calendar-events/jica-ninja-accelerator-in-kenya-cohort-3-applications/
CATEGORIES:Conference,Partner Event
ATTACH;FMTTYPE=image/jpeg:https://www.eavca.org/wp-content/uploads/2023/07/Ninja.jpg
END:VEVENT
END:VCALENDAR