BEGIN:VCALENDAR
VERSION:2.0
PRODID:-// - ECPv6.6.3//NONSGML v1.0//EN
CALSCALE:GREGORIAN
METHOD:PUBLISH
X-ORIGINAL-URL:https://www.eavca.org
X-WR-CALDESC:Events for 
REFRESH-INTERVAL;VALUE=DURATION:PT1H
X-Robots-Tag:noindex
X-PUBLISHED-TTL:PT1H
BEGIN:VTIMEZONE
TZID:Africa/Nairobi
BEGIN:STANDARD
TZOFFSETFROM:+0300
TZOFFSETTO:+0300
TZNAME:EAT
DTSTART:20220101T000000
END:STANDARD
END:VTIMEZONE
BEGIN:VEVENT
DTSTART;TZID=Africa/Nairobi:20221020T080000
DTEND;TZID=Africa/Nairobi:20221020T170000
DTSTAMP:20260423T031904
CREATED:20221005T114706Z
LAST-MODIFIED:20221005T114706Z
UID:870-1666252800-1666285200@www.eavca.org
SUMMARY:Imuka Access Pitch Fest
DESCRIPTION:Now in its 3rd year\, the Imuka Access Pitch fest provides a physical matchmaking platform to strengthen deal pipeline by connecting promising Ugandan enterprises able to absorb seed and early stage financing to private capital providers deploying capital in ticket sizes of between US$ 50\,000 and US$ 500\,000. \nAt the marathon pitching event\, a group of pre-vetted enterprises from Uganda pitch their business ideas to a panel of potential investors. Investor expressions of interest for participation in the event can be directed at event organisers. \n\n  \nContact person – Roy Gakuo: roy.gakuo@gmail.com
URL:https://www.eavca.org/calendar-events/imuka-access-pitch-fest/
CATEGORIES:Partner Event
ATTACH;FMTTYPE=image/jpeg:https://www.eavca.org/wp-content/uploads/2022/10/pitchfest.jpg
END:VEVENT
END:VCALENDAR