BEGIN:VCALENDAR
VERSION:2.0
PRODID:-// - ECPv6.6.3//NONSGML v1.0//EN
CALSCALE:GREGORIAN
METHOD:PUBLISH
X-ORIGINAL-URL:https://www.eavca.org
X-WR-CALDESC:Events for 
REFRESH-INTERVAL;VALUE=DURATION:PT1H
X-Robots-Tag:noindex
X-PUBLISHED-TTL:PT1H
BEGIN:VTIMEZONE
TZID:Africa/Nairobi
BEGIN:STANDARD
TZOFFSETFROM:+0300
TZOFFSETTO:+0300
TZNAME:EAT
DTSTART:20230101T000000
END:STANDARD
END:VTIMEZONE
BEGIN:VEVENT
DTSTART;TZID=Africa/Nairobi:20230714T070000
DTEND;TZID=Africa/Nairobi:20230714T110000
DTSTAMP:20260422T150746
CREATED:20230706T200236Z
LAST-MODIFIED:20230706T200236Z
UID:1085-1689318000-1689332400@www.eavca.org
SUMMARY:Investing in my Business: What You Need to Know About Getting an Investor
DESCRIPTION:This is an event for Entrepreneurs who would like to know more about the business investment opportunities offered in the form of Private Equity\, Venture Capital\, Angel Investor.\n\nThis workshop will focus on: \n\nThe Entrepreneur Journey – The challenge of growing Your Business\nDemystifying the Investor as an opportunity for your Business\nUnderstanding the details – What does it take?
URL:https://www.eavca.org/calendar-events/investing-in-my-business-what-you-need-to-know-about-getting-an-investor/
CATEGORIES:Partner Event,Webinar
ATTACH;FMTTYPE=image/jpeg:https://www.eavca.org/wp-content/uploads/2023/07/Strathmore-Event-14th-July_cropped-copy.jpg
END:VEVENT
BEGIN:VEVENT
DTSTART;TZID=Africa/Nairobi:20230720T080000
DTEND;TZID=Africa/Nairobi:20230722T170000
DTSTAMP:20260422T150746
CREATED:20230706T200732Z
LAST-MODIFIED:20230706T200732Z
UID:1092-1689840000-1690045200@www.eavca.org
SUMMARY:3rd India - Africa Entrepreneurship & Investment Summit
DESCRIPTION:3rd India – Africa Entrepreneurship & Investment Summit
URL:https://www.eavca.org/calendar-events/3rd-india-africa-entrepreneurship-investment-summit/
CATEGORIES:Conference,Partner Event
ATTACH;FMTTYPE=image/jpeg:https://www.eavca.org/wp-content/uploads/2023/07/3rd-India.jpg
END:VEVENT
BEGIN:VEVENT
DTSTART;TZID=Africa/Nairobi:20230727T080000
DTEND;TZID=Africa/Nairobi:20230727T170000
DTSTAMP:20260422T150746
CREATED:20230706T200937Z
LAST-MODIFIED:20230706T201157Z
UID:1095-1690444800-1690477200@www.eavca.org
SUMMARY:The Entrepreneur Summit
DESCRIPTION:The Entrepreneur Summit transports attendees beyond today\, towards a prosperous and achievable tomorrow. It is the moment of connection. Be inspired and empowered to think boldly\, move confidently\, and harness sage advice and insight from global leaders. \n\n\n\n\n\n\n\n\n\nSuccess doesn’t happen by chance.\nIt’s time to go further and grow in new ways through our exclusive global networking event. Hosted across numerous countries\, the Summit presents entrepreneurs\, executives\, and investors with a unique opportunity to have insightful conversations about private equity alternatives. \nIt’s a place for strategizing and learning from the entrepreneurial companies who join us\, from the investor groups who come to meet exceptional operators and executives\, and from the powerful relationships that can only be formed right here. When we come together\, new bridges are built\, and new opportunities are uncovered.
URL:https://www.eavca.org/calendar-events/the-entrepreneur-summit/
CATEGORIES:Conference,Partner Event
ATTACH;FMTTYPE=image/jpeg:https://www.eavca.org/wp-content/uploads/2023/07/Deloitte-ES-Poster-1-copy.jpg
END:VEVENT
BEGIN:VEVENT
DTSTART;TZID=Africa/Nairobi:20230730T080000
DTEND;TZID=Africa/Nairobi:20230730T170000
DTSTAMP:20260422T150746
CREATED:20230706T201558Z
LAST-MODIFIED:20230706T201558Z
UID:1099-1690704000-1690736400@www.eavca.org
SUMMARY:JICA-Ninja Accelerator in Kenya Cohort 3 Applications
DESCRIPTION:NINJA Kenya offers strategic partnerships\, mentorships\, and access to investments to foster enhanced business growth and contribute to social development in the country. We bring together local and global expertise to fast-track the growth of participating entrepreneurs. \nCriteria:  \nWe are seeking pre-seed or seed stage businesses with passionate founders and a senior leadership team capable of – and committed to – an accelerated scale-up process and seeking to accept large investments and strategic partners. To be eligible\, businesses should have been in operation for a minimum of 2 years\, demonstrate proof of product-market fit\, and sustain revenue for at least 6 months.
URL:https://www.eavca.org/calendar-events/jica-ninja-accelerator-in-kenya-cohort-3-applications/
CATEGORIES:Conference,Partner Event
ATTACH;FMTTYPE=image/jpeg:https://www.eavca.org/wp-content/uploads/2023/07/Ninja.jpg
END:VEVENT
END:VCALENDAR