BEGIN:VCALENDAR
VERSION:2.0
PRODID:-// - ECPv6.6.3//NONSGML v1.0//EN
CALSCALE:GREGORIAN
METHOD:PUBLISH
X-ORIGINAL-URL:https://www.eavca.org
X-WR-CALDESC:Events for 
REFRESH-INTERVAL;VALUE=DURATION:PT1H
X-Robots-Tag:noindex
X-PUBLISHED-TTL:PT1H
BEGIN:VTIMEZONE
TZID:Africa/Nairobi
BEGIN:STANDARD
TZOFFSETFROM:+0300
TZOFFSETTO:+0300
TZNAME:EAT
DTSTART:20230101T000000
END:STANDARD
END:VTIMEZONE
BEGIN:VEVENT
DTSTART;TZID=Africa/Nairobi:20230215T080000
DTEND;TZID=Africa/Nairobi:20230216T170000
DTSTAMP:20260422T211735
CREATED:20230130T071503Z
LAST-MODIFIED:20230130T071503Z
UID:938-1676448000-1676566800@www.eavca.org
SUMMARY:Africa Tech Summit\, Nairobi
DESCRIPTION:Africa Tech Summit Nairobi connects tech leaders from the African ecosystem and international players under one roof. Network with key stakeholders including tech corporates\, mobile operators\, fintechs\, DeFi & crypto ventures\, investors\, leading start-ups\, regulators and industry stakeholders driving business and investment forward. Following a sell out in 2022\, the fifth edition convenes in Nairobi\, Kenya.
URL:https://www.eavca.org/calendar-events/africa-tech-summit-nairobi/
CATEGORIES:Networking,Partner Event
ATTACH;FMTTYPE=image/jpeg:https://www.eavca.org/wp-content/uploads/2023/01/Web-2.jpg
END:VEVENT
BEGIN:VEVENT
DTSTART;TZID=Africa/Nairobi:20230220T080000
DTEND;TZID=Africa/Nairobi:20230222T170000
DTSTAMP:20260422T211735
CREATED:20230126T075525Z
LAST-MODIFIED:20230203T074405Z
UID:929-1676880000-1677085200@www.eavca.org
SUMMARY:Venture Capital Masterclass
DESCRIPTION:The Venture Capital edition of the Private Capital Masterclass provides a detailed overview of investing and managing venture capital funds in emerging markets in general and in Africa in particular. \nThe purpose of the masterclass is to provide a common understanding of approaches\, terminologies\, strategies\, roles and expected outcomes for successful investments of VC funds. \nClick here to download the agenda.
URL:https://www.eavca.org/calendar-events/private-capital-funds-masterclass/
LOCATION:ALN House\, Eldama Ravine Close\, Off Eldama Ravine Road\, Westlands\,\, Nairobi\, Kenya
CATEGORIES:Partner Event
ATTACH;FMTTYPE=image/jpeg:https://www.eavca.org/wp-content/uploads/2023/01/AVCA-Masterclass.jpg
END:VEVENT
BEGIN:VEVENT
DTSTART;TZID=Africa/Nairobi:20230221T080000
DTEND;TZID=Africa/Nairobi:20230221T170000
DTSTAMP:20260422T211735
CREATED:20230203T062651Z
LAST-MODIFIED:20230203T062733Z
UID:952-1676966400-1676998800@www.eavca.org
SUMMARY:EU-Kenya Global Gateway
DESCRIPTION:The Team Europe Initiative ‘Investing in Young Businesses in Africa’ (TEI IYBA) supports early stage businesses and entrepreneurs in Africa in launching and growing sustainable\, strong and inclusive businesses and creating decent jobs. \nDuring the upcoming EU-Kenya Business Forum 2023 to take place in Nairobi on 21st and 22nd February\, the TEI IYBA will be officially launched in Kenya and there will be an exclusive session on 21st February at 11 30 am to 13 30 pm to present the basic features of the TEI IYBA to a selected group of stakeholders\, institutions and investment funds. \nIf you wish to attend in person to the exclusive session on 21st February at 11 30 am to 13 30 at Radisson Blue – Upper Hill please click here to register. The deadline for in-person registration is 15th February 2003.
URL:https://www.eavca.org/calendar-events/eu-kenya-global-gateway/
CATEGORIES:Partner Event,Webinar
ATTACH;FMTTYPE=image/jpeg:https://www.eavca.org/wp-content/uploads/2023/02/EU-Global-Gateway.jpg
END:VEVENT
BEGIN:VEVENT
DTSTART;TZID=Africa/Nairobi:20230227T080000
DTEND;TZID=Africa/Nairobi:20230228T170000
DTSTAMP:20260422T211735
CREATED:20230203T063055Z
LAST-MODIFIED:20230203T063055Z
UID:955-1677484800-1677603600@www.eavca.org
SUMMARY:Annual Africa ESG\, Impact Investing and Sustainable Finance Summit 2023
DESCRIPTION:The Annual Africa ESG\, Impact Investing & Sustainable Finance Summit-Forum brings together key stakeholders in the ESG\, Impact Investing\, Sustainability\, Green Finance and Climate change. The 2023 forums\, coming in the backdrop of COP27\, will address critical and necessary interventions that Governments\, investors\, financial intermediaries\, asset owners\, development and donor agencies\, asset managers\, regulators and policy makers\, and the private sector in general will need to deploy towards achieving the UN sustainable development goals as well as to mitigate against climate related risks \nClick here to register.
URL:https://www.eavca.org/calendar-events/annual-africa-esg-impact-investing-and-sustainable-finance-summit-2023/
CATEGORIES:Conference,Partner Event
ATTACH;FMTTYPE=image/jpeg:https://www.eavca.org/wp-content/uploads/2023/02/ESG.jpg
END:VEVENT
END:VCALENDAR