BEGIN:VCALENDAR
VERSION:2.0
PRODID:-// - ECPv6.6.3//NONSGML v1.0//EN
CALSCALE:GREGORIAN
METHOD:PUBLISH
X-ORIGINAL-URL:https://www.eavca.org
X-WR-CALDESC:Events for 
REFRESH-INTERVAL;VALUE=DURATION:PT1H
X-Robots-Tag:noindex
X-PUBLISHED-TTL:PT1H
BEGIN:VTIMEZONE
TZID:Africa/Nairobi
BEGIN:STANDARD
TZOFFSETFROM:+0300
TZOFFSETTO:+0300
TZNAME:EAT
DTSTART:20220101T000000
END:STANDARD
END:VTIMEZONE
BEGIN:VEVENT
DTSTART;VALUE=DATE:20251014
DTEND;VALUE=DATE:20251016
DTSTAMP:20260421T172156
CREATED:20250515T060919Z
LAST-MODIFIED:20250515T061006Z
UID:2211-1760400000-1760572799@www.eavca.org
SUMMARY:AFSIC – Investing in Africa 2025
DESCRIPTION:The East Africa Venture Capital Association (EAVCA) is proud to announce its partnership with AFSIC – Investing in Africa 2025\, scheduled for October 14–15\, 2025\, at the Park Plaza Westminster Bridge Hotel\, London.AFSIC is recognized as one of Africa’s premier investment events\, bringing together over 1\,500 senior leaders and 350+ investors to explore investment strategies\, pitch opportunities\, and gain insights across the continent’s key sectors—including fintech\, infrastructure\, sustainable development\, and agriculture. \nAttendees can look forward to dynamic panels\, interactive networking sessions\, and curated deal rooms\, offering a platform to unpack economic trends and the fundraising outlook shaping Africa’s private capital landscape. Take advantage of early registration rates before May 31\, 2025\, and enjoy an exclusive 20% discount with our EAVCA code: AF25P20. For more information and to register\, visit the AFSIC 2025 website.
URL:https://www.eavca.org/calendar-events/afsic-investing-in-africa-2025/
LOCATION:Park Plaza Westminster Bridge Hotel\, London
CATEGORIES:Networking,Partner Event
ATTACH;FMTTYPE=image/png:https://www.eavca.org/wp-content/uploads/2025/05/AFSIC_Advert_Partner_Code_20__Discount_FB_1200x630_AF25P10_May_AGENDA_LIVE_Early_Bird.png
END:VEVENT
BEGIN:VEVENT
DTSTART;TZID=Africa/Nairobi:20250619T173000
DTEND;TZID=Africa/Nairobi:20250619T200000
DTSTAMP:20260421T172156
CREATED:20250604T133431Z
LAST-MODIFIED:20250604T134152Z
UID:2234-1750354200-1750363200@www.eavca.org
SUMMARY:Q2 Networking Cocktails
DESCRIPTION:Please join us for an evening of networking and relaxation during our second social event of the year. \nA fun\, happy hour with prominent industry players\, giving you a chance to connect and relax with a cool drink and inviting ambience.
URL:https://www.eavca.org/calendar-events/q2-networking-cocktails-2/
LOCATION:The Big House\, Ewaso Ngiro Rd\, Nairobi\, Kenya
CATEGORIES:EAVCA Event,Networking
ATTACH;FMTTYPE=image/png:https://www.eavca.org/wp-content/uploads/2025/06/NETWORKING-Drinks.png
ORGANIZER;CN="EAVCA":MAILTO:info@eavca.org
END:VEVENT
BEGIN:VEVENT
DTSTART;VALUE=DATE:20250529
DTEND;VALUE=DATE:20250530
DTSTAMP:20260421T172156
CREATED:20250522T074028Z
LAST-MODIFIED:20250527T121607Z
UID:2222-1748476800-1748563199@www.eavca.org
SUMMARY:Pre-Summit Industry Connect Cocktail
DESCRIPTION:Hosted by EAVCA in collaboration with KPMG\nAs we count down to the highly anticipated 2025 KPMG Private Enterprise Africa Venture Summit taking place in Nairobi from May 27–30\, EAVCA—together with KPMG—warmly invites you to an exclusive and complimentary Pre-Summit Industry Connect Cocktail. \n Date: Thursday\, May 29\, 2025 \n Venue: Kofisi Riverside\, Nairobi \n RSVP Now\nJoin a curated community of founders\, investors\, family offices\, and ecosystem partners for an evening of meaningful conversation\, new connections\, and cross-sector collaboration in a relaxed setting. Whether you’re scouting your next investment\, exploring strategic partnerships\, engaging with Africa’s most promising entrepreneurial minds\, this is the room to be in. \nLet’s raise a glass to the future of African private capital and the powerful connections shaping it. We look forward to welcoming you.
URL:https://www.eavca.org/calendar-events/pre-summit-industry-connect-cocktail/
LOCATION:Kofisi Riverside\, 95 Riverside Drive\, 95 Riverside Drive\, Nairobi\, Kenya
CATEGORIES:Networking
ATTACH;FMTTYPE=image/png:https://www.eavca.org/wp-content/uploads/2025/05/Pre-summit-industry-connect-cocktail-poster.png
END:VEVENT
BEGIN:VEVENT
DTSTART;TZID=Africa/Nairobi:20250327T170000
DTEND;TZID=Africa/Nairobi:20250327T200000
DTSTAMP:20260421T172156
CREATED:20250206T042216Z
LAST-MODIFIED:20250317T122006Z
UID:2102-1743094800-1743105600@www.eavca.org
SUMMARY:Q1 Networking Cocktails
DESCRIPTION:Please join us for an evening of networking and relaxation during our second social event of the year. \nA fun\, happy hour with prominent industry players\, giving you a chance to connect and relax with a cool drink and inviting ambience.
URL:https://www.eavca.org/calendar-events/q1-networking-cocktails/
LOCATION:Park Inn by Radisson\, Nairobi\, Kenya
CATEGORIES:EAVCA Event,Networking
ATTACH;FMTTYPE=image/png:https://www.eavca.org/wp-content/uploads/2025/02/NETWORKING-Drinks.png
ORGANIZER;CN="EAVCA":MAILTO:info@eavca.org
END:VEVENT
BEGIN:VEVENT
DTSTART;TZID=Africa/Nairobi:20241114T170000
DTEND;TZID=Africa/Nairobi:20241114T200000
DTSTAMP:20260421T172156
CREATED:20241107T113130Z
LAST-MODIFIED:20241107T113130Z
UID:2037-1731603600-1731614400@www.eavca.org
SUMMARY:Uganda Chamber Networking Drinks
DESCRIPTION:Date: 14/11/2024\nVenue:  Fontis Residences Hotel Nakasero\, Kampala\, Uganda\nTime: 5:00pm – 8:00pm \nThe EAVCA Uganda Chapter\, in partnership with CrossBoundary\, invites you to our final networking event of the year. This exclusive gathering brings together private capital industry professionals\, including fund managers\, limited partners\, advisors\, intermediaries\, strategic partners and other stakeholders in the sector. Join us as we connect\, share insights\, and explore potential collaborations.
URL:https://www.eavca.org/calendar-events/uganda-chamber-networking-drinks/
LOCATION:Fontis Residences Hotel\, Kampala\, Uganda
CATEGORIES:EAVCA Event,Networking
ATTACH;FMTTYPE=image/png:https://www.eavca.org/wp-content/uploads/2024/11/Uganda-Chamber-Networking-Drinks.png
ORGANIZER;CN="EAVCA":MAILTO:info@eavca.org
END:VEVENT
BEGIN:VEVENT
DTSTART;VALUE=DATE:20241114
DTEND;VALUE=DATE:20241115
DTSTAMP:20260421T172156
CREATED:20241107T113547Z
LAST-MODIFIED:20241107T113547Z
UID:2041-1731542400-1731628799@www.eavca.org
SUMMARY:EAVCA Alpha Series  Event in Ethiopia
DESCRIPTION:Date: November 14th 2024 \nThe EAVCA Alpha Series features thought-provoking discussions organized by the association to address key themes impacting private capital deployment and to develop actionable solutions to industry challenges. Held under the Chatham House Rule\, these events foster open and candid discussions\, enabling participants to gain practical insights for their investment activities. \nThis investor roundtable aims to bring together key stakeholders from the private capital ecosystem\, government\, and development institutions to explore Ethiopia’s evolving investment landscape. The conversation will provide actionable insights into how investors can effectively engage with the Ethiopian market\, while also addressing the policy reforms and initiatives needed to create a more conducive environment for investment.\n \nTo RSVP\, kindly email: june@eavca.org
URL:https://www.eavca.org/calendar-events/eavca-alpha-series-event-in-ethiopia/
CATEGORIES:EAVCA Event,Networking
ATTACH;FMTTYPE=image/png:https://www.eavca.org/wp-content/uploads/2024/11/Alpha-Series-01-2.png
END:VEVENT
BEGIN:VEVENT
DTSTART;VALUE=DATE:20241107
DTEND;VALUE=DATE:20241109
DTSTAMP:20260421T172156
CREATED:20240926T124057Z
LAST-MODIFIED:20240930T175122Z
UID:1990-1730937600-1731110399@www.eavca.org
SUMMARY:11th Angel Fair Africa
DESCRIPTION:Date: 7th – 8th November 2024\nVenue: Holiday Inn\, Two Rivers\, Nairobi \nThis year’s Angel Fair Africa will bring together selected African entrepreneurs to pitch to a room full of curated investors\, with the intent to Do Deals. The convening\, scheduled for 7th – 8th November 2024 promises to provide investors with quality startup and scaling enterprises they can interact with and invest in to help build these businesses across Africa. The Angel Fair Africa\, which started in 2013\, has sparked over  $100M worth of investments in Kenya\, the Ivory Coast\, Nigeria\, Ghana\, South Africa\, Tanzania\, Mozambique\, Senegal\, and other countries.\nTo register your interest to attend\, please sign up on this link.\n 
URL:https://www.eavca.org/calendar-events/11th-angel-fair-africa/
LOCATION:Holiday Inn\, Two Rivers\, Nairobi\, Kenya
CATEGORIES:EAVCA Event,Networking
ATTACH;FMTTYPE=image/png:https://www.eavca.org/wp-content/uploads/2024/09/Angel-fair-at-11.png
END:VEVENT
BEGIN:VEVENT
DTSTART;VALUE=DATE:20231005
DTEND;VALUE=DATE:20231006
DTSTAMP:20260421T172156
CREATED:20230831T082835Z
LAST-MODIFIED:20230831T083913Z
UID:1210-1696464000-1696550399@www.eavca.org
SUMMARY:Nairobi AESIS 2023 Investor Meetup
DESCRIPTION:As we gear up for the monumental 10th edition of the African Early Stage Investor Summit\, AESIS2023\, we’re delighted to invite you to take advantage of the opportunity for unparalleled networking\, learning\, and collaboration at the AESIS2023 Investor Meetups happening across Africa and the diaspora. We welcome you to connect and exchange insights at a meetup in your city which will pave the way for more interactions at the main summit in Cape Town.
URL:https://www.eavca.org/calendar-events/nairobi-aesis-2023-investor-meetup/
CATEGORIES:Networking
ATTACH;FMTTYPE=image/png:https://www.eavca.org/wp-content/uploads/2023/08/Rectangle-22.png
END:VEVENT
BEGIN:VEVENT
DTSTART;TZID=Africa/Nairobi:20230628T170000
DTEND;TZID=Africa/Nairobi:20230628T190000
DTSTAMP:20260421T172156
CREATED:20230606T191745Z
LAST-MODIFIED:20230606T191807Z
UID:1055-1687971600-1687978800@www.eavca.org
SUMMARY:Uganda Q2 Networking Cocktails
DESCRIPTION:EAVCA’s Networking Events in Uganda are a series of quarterly evening receptions organized by EAVCA\, its members\, and strategic partners. The receptions are intended to provide private capital industry professionals and practitioners (fund managers\, limited partners\, advisors\, intermediaries) in EAVCA’s membership and industry strategic partners an opportunity to meet\, engage and explore potential areas of synergy amongst themselves. \nThe events provide attendees with an opportunity for knowledge and contact sharing in an informal and relaxed evening setting. \n\n  \nTo RSVP\, contact doris@eavca.org.
URL:https://www.eavca.org/calendar-events/uganda-q2-networking-cocktails/
CATEGORIES:EAVCA Event,Networking
ATTACH;FMTTYPE=image/jpeg:https://www.eavca.org/wp-content/uploads/2023/06/q2ug.jpg
END:VEVENT
BEGIN:VEVENT
DTSTART;TZID=Africa/Nairobi:20230615T170000
DTEND;TZID=Africa/Nairobi:20230615T213000
DTSTAMP:20260421T172156
CREATED:20230606T185648Z
LAST-MODIFIED:20230609T063508Z
UID:1045-1686848400-1686864600@www.eavca.org
SUMMARY:Q2 Networking Cocktails
DESCRIPTION:Please join us for an evening of networking and relaxation during our second social event of the year. \nA fun\, happy hour with prominent industry players\, giving you a chance to connect and relax with a cool drink and inviting ambience. \nRSVP: info@eavca.org
URL:https://www.eavca.org/calendar-events/q2-networking-cocktails/
LOCATION:Kofisi Square\, Riverside Square\, Nairobi\, Kenya
CATEGORIES:EAVCA Event,Networking
ATTACH;FMTTYPE=image/jpeg:https://www.eavca.org/wp-content/uploads/2023/06/WhatsApp-Image-2023-06-09-at-07.52.30.jpeg
ORGANIZER;CN="EAVCA":MAILTO:info@eavca.org
END:VEVENT
BEGIN:VEVENT
DTSTART;TZID=Africa/Nairobi:20230331T080000
DTEND;TZID=Africa/Nairobi:20230331T170000
DTSTAMP:20260421T172156
CREATED:20230303T095344Z
LAST-MODIFIED:20230303T095344Z
UID:985-1680249600-1680282000@www.eavca.org
SUMMARY:Africa Impact Investing Awards
DESCRIPTION:We are pleased to partner with Intellidex for the first annual Africa Impact Investment Awards. The awards will showcase innovation and excellence in impact investing. The awards will also serve to showcase a new world of possibilities to investors that have not yet taken the step toward impact investing. This in turn could facilitate greater access to capital particularly for smaller social enterprises. \nNominations for the inaugural Intellidex Africa Impact Investment Awards are open. Submit your nominations now.\nNominations close on 31st March.
URL:https://www.eavca.org/calendar-events/africa-impact-investing-awards/
CATEGORIES:Networking,Partner Event
ATTACH;FMTTYPE=image/jpeg:https://www.eavca.org/wp-content/uploads/2023/03/Africa-Impact-Investing.jpg
END:VEVENT
BEGIN:VEVENT
DTSTART;TZID=Africa/Nairobi:20230223T170000
DTEND;TZID=Africa/Nairobi:20230223T213000
DTSTAMP:20260421T172156
CREATED:20230126T081653Z
LAST-MODIFIED:20230126T081653Z
UID:935-1677171600-1677187800@www.eavca.org
SUMMARY:Q1 Networking Cocktails
DESCRIPTION:Please join us for an evening of networking and relaxation during our second social event of the year. \nA fun\, happy hour with prominent industry players\, giving you a chance to connect and relax with a cool drink and inviting ambience.
URL:https://www.eavca.org/calendar-events/q1-networking-cocktails-2023/
CATEGORIES:EAVCA Event,Networking
ATTACH;FMTTYPE=image/jpeg:https://www.eavca.org/wp-content/uploads/2023/01/Web-1.jpg
ORGANIZER;CN="EAVCA":MAILTO:info@eavca.org
END:VEVENT
BEGIN:VEVENT
DTSTART;TZID=Africa/Nairobi:20230215T080000
DTEND;TZID=Africa/Nairobi:20230216T170000
DTSTAMP:20260421T172156
CREATED:20230130T071503Z
LAST-MODIFIED:20230130T071503Z
UID:938-1676448000-1676566800@www.eavca.org
SUMMARY:Africa Tech Summit\, Nairobi
DESCRIPTION:Africa Tech Summit Nairobi connects tech leaders from the African ecosystem and international players under one roof. Network with key stakeholders including tech corporates\, mobile operators\, fintechs\, DeFi & crypto ventures\, investors\, leading start-ups\, regulators and industry stakeholders driving business and investment forward. Following a sell out in 2022\, the fifth edition convenes in Nairobi\, Kenya.
URL:https://www.eavca.org/calendar-events/africa-tech-summit-nairobi/
CATEGORIES:Networking,Partner Event
ATTACH;FMTTYPE=image/jpeg:https://www.eavca.org/wp-content/uploads/2023/01/Web-2.jpg
END:VEVENT
BEGIN:VEVENT
DTSTART;TZID=Africa/Nairobi:20230119T170000
DTEND;TZID=Africa/Nairobi:20230119T190000
DTSTAMP:20260421T172156
CREATED:20221207T203110Z
LAST-MODIFIED:20221207T203110Z
UID:919-1674147600-1674154800@www.eavca.org
SUMMARY:Uganda Q4 Networking Cocktails
DESCRIPTION:EAVCA’s Networking Events in Uganda are a series of quarterly evening receptions organized by EAVCA\, its members\, and strategic partners. The receptions are intended to provide private capital industry professionals and practitioners (fund managers\, limited partners\, advisors\, intermediaries) in EAVCA’s membership and industry strategic partners an opportunity to meet\, engage and explore potential areas of synergy amongst themselves. \nThe events provide attendees with an opportunity for knowledge and contact sharing in an informal and relaxed evening setting. BDO East Africa Uganda is the proud sponsor of the Quarter four (Q4)\, 2022 EAVCA Networking Event for Uganda. \n\n  \nTo RSVP\, contact doris@eavca.org.
URL:https://www.eavca.org/calendar-events/uganda-q4-networking-cocktails/
CATEGORIES:EAVCA Event,Networking
ATTACH;FMTTYPE=image/jpeg:https://www.eavca.org/wp-content/uploads/2022/12/ug-q4.jpg
END:VEVENT
BEGIN:VEVENT
DTSTART;TZID=Africa/Nairobi:20221201T180000
DTEND;TZID=Africa/Nairobi:20221201T233000
DTSTAMP:20260421T172156
CREATED:20220825T085855Z
LAST-MODIFIED:20221111T064431Z
UID:824-1669917600-1669937400@www.eavca.org
SUMMARY:EAVCA Annual Gala and Awards Dinner
DESCRIPTION:The EAVCA Annual Gala Dinner will bring together the Private Equity and Venture Capital community at the end of 2022 for an evening of networking and musical entertainment wrapped in a spirit of festivity. \nThe event will also host the EAVCA Industry Awards to recognize and celebrate the industry’s successes in the region. Nominations open on September 1. and will close after 6 weeks. \nThe criteria for submission of awards:\n \n\nDeals done over the past 12 months\n\nSubmission content to not exceed 1000 words (deal numbers highly encouraged)\n\nOne deal per firm for each category\n\nEvery submission must include company name and logo\n\nEastern Africa deals only (Ethiopia\, Kenya\, Rwanda\, Tanzania & Uganda)
URL:https://www.eavca.org/calendar-events/eavca-annual-gala-and-awards-dinner/
CATEGORIES:EAVCA Event,Networking
ATTACH;FMTTYPE=image/jpeg:https://www.eavca.org/wp-content/uploads/2022/08/Website-background.jpg
ORGANIZER;CN="EAVCA":MAILTO:info@eavca.org
END:VEVENT
BEGIN:VEVENT
DTSTART;TZID=Africa/Nairobi:20221020T170000
DTEND;TZID=Africa/Nairobi:20221020T190000
DTSTAMP:20260421T172156
CREATED:20221005T120331Z
LAST-MODIFIED:20221005T120331Z
UID:878-1666285200-1666292400@www.eavca.org
SUMMARY:Uganda Q3 Networking Cocktails
DESCRIPTION:EAVCA’s Networking Events in Uganda are a series of quarterly evening receptions organized by EAVCA\, its members\, and strategic partners. The receptions are intended to provide private capital industry professionals and practitioners (fund managers\, limited partners\, advisors\, intermediaries) in EAVCA’s membership and industry strategic partners an opportunity to meet\, engage and explore potential areas of synergy amongst themselves. \nThe events provide attendees with an opportunity for knowledge and contact sharing in an informal and relaxed evening setting. BDO East Africa Uganda is the proud sponsor of the Quarter three (Q3)\, 2022 EAVCA Networking Event for Uganda. \n\n  \nTo RSVP\, contact doris@eavca.org. \n\n  \nClick here to view the photos from the Nairobi networking event.
URL:https://www.eavca.org/calendar-events/uganda-q3-networking-cocktails/
CATEGORIES:EAVCA Event,Networking
ATTACH;FMTTYPE=image/jpeg:https://www.eavca.org/wp-content/uploads/2022/10/UG-Networking.jpg
END:VEVENT
BEGIN:VEVENT
DTSTART;TZID=Africa/Nairobi:20220908T170000
DTEND;TZID=Africa/Nairobi:20220908T213000
DTSTAMP:20260421T172156
CREATED:20220812T075755Z
LAST-MODIFIED:20220825T113842Z
UID:752-1662656400-1662672600@www.eavca.org
SUMMARY:Q3 Networking Cocktails
DESCRIPTION:Please join us for an evening of networking and relaxation during our second social event of the year. \nA fun\, happy hour with prominent industry players\, giving you a chance to connect and relax with a cool drink and inviting ambience.
URL:https://www.eavca.org/calendar-events/q3-networking-cocktails/
LOCATION:Ascent Capital Offices\, Olenguruone Road\, Nairobi\, Nairobi\, Kenya
CATEGORIES:EAVCA Event,Networking
ATTACH;FMTTYPE=image/jpeg:https://www.eavca.org/wp-content/uploads/2022/08/Web.jpg
ORGANIZER;CN="EAVCA":MAILTO:info@eavca.org
END:VEVENT
END:VCALENDAR