BEGIN:VCALENDAR
VERSION:2.0
PRODID:-// - ECPv6.6.3//NONSGML v1.0//EN
CALSCALE:GREGORIAN
METHOD:PUBLISH
X-ORIGINAL-URL:https://www.eavca.org
X-WR-CALDESC:Events for 
REFRESH-INTERVAL;VALUE=DURATION:PT1H
X-Robots-Tag:noindex
X-PUBLISHED-TTL:PT1H
BEGIN:VTIMEZONE
TZID:Africa/Nairobi
BEGIN:STANDARD
TZOFFSETFROM:+0300
TZOFFSETTO:+0300
TZNAME:EAT
DTSTART:20220101T000000
END:STANDARD
END:VTIMEZONE
BEGIN:VEVENT
DTSTART;VALUE=DATE:20240826
DTEND;VALUE=DATE:20240829
DTSTAMP:20260423T142041
CREATED:20240425T073022Z
LAST-MODIFIED:20240819T072935Z
UID:1732-1724630400-1724889599@www.eavca.org
SUMMARY:EAVCA Professional Development Programme (PDP)
DESCRIPTION:Date: 26th to 28th of August\n Venue: Aspire Centre\, Westlands\, Nairobi
URL:https://www.eavca.org/calendar-events/eavca-professional-development-programme-pdp/
LOCATION:Private: Aspire Centre\,  Westlands\, Nairobi\, Kenya
CATEGORIES:EAVCA Event
ATTACH;FMTTYPE=image/jpeg:https://www.eavca.org/wp-content/uploads/2024/04/PDP-Flier-2024.jpg
END:VEVENT
BEGIN:VEVENT
DTSTART;VALUE=DATE:20240725
DTEND;VALUE=DATE:20240726
DTSTAMP:20260423T142041
CREATED:20240703T194138Z
LAST-MODIFIED:20240724T061234Z
UID:1802-1721865600-1721951999@www.eavca.org
SUMMARY:PWC & EAVCA Workshop: Managing Tax and Transfer Pricing risks
DESCRIPTION:Date: July 25th 2024\nVenue: Online\,  details to be shared \n  \nThis event is targeted to Managing Partners / Managing Directors and the objective is to share specially curated material around tax and transfer pricing risks affecting Venture Capital and Private Equity funds. \nTo register: Click Here
URL:https://www.eavca.org/calendar-events/pwc-eavca-workshop-managing-tax-and-transfer-pricing-risks/
CATEGORIES:EAVCA Event,Partner Event
ATTACH;FMTTYPE=image/png:https://www.eavca.org/wp-content/uploads/2024/07/EAVCA-banners.png
END:VEVENT
BEGIN:VEVENT
DTSTART;VALUE=DATE:20240613
DTEND;VALUE=DATE:20240614
DTSTAMP:20260423T142041
CREATED:20240315T121344Z
LAST-MODIFIED:20240423T145430Z
UID:1648-1718236800-1718323199@www.eavca.org
SUMMARY:The EAVCA 8th Annual Private Capital Conference
DESCRIPTION:Registration link:  Click here \nDate: 13th June 2024 \nDuration: 1 Day \nVenue: Uganda
URL:https://www.eavca.org/calendar-events/the-eavca-8th-annual-private-capital-east-africa-conference/
CATEGORIES:EAVCA Event
ATTACH;FMTTYPE=image/jpeg:https://www.eavca.org/wp-content/uploads/2024/03/WhatsApp-Image-2024-04-22-at-13.29.27.jpeg
ORGANIZER;CN="EAVCA":MAILTO:info@eavca.org
END:VEVENT
BEGIN:VEVENT
DTSTART;TZID=Africa/Nairobi:20240321T173000
DTEND;TZID=Africa/Nairobi:20240321T210000
DTSTAMP:20260423T142041
CREATED:20231207T085547Z
LAST-MODIFIED:20240515T043742Z
UID:1435-1711042200-1711054800@www.eavca.org
SUMMARY:Q1 Networking Cocktail
DESCRIPTION:Theme:  Rethinking Due Diligence: How to get the best value for money
URL:https://www.eavca.org/calendar-events/q1-networking-drinks/
LOCATION:ALN House\, Eldama Ravine Close\, Off Eldama Ravine Road\, Westlands\,\, Nairobi\, Kenya
CATEGORIES:EAVCA Event
ATTACH;FMTTYPE=image/png:https://www.eavca.org/wp-content/uploads/2023/12/Q1-NETWORKING-DRINKS-2.png
ORGANIZER;CN="EAVCA":MAILTO:info@eavca.org
END:VEVENT
BEGIN:VEVENT
DTSTART;VALUE=DATE:20240318
DTEND;VALUE=DATE:20240319
DTSTAMP:20260423T142041
CREATED:20240118T033516Z
LAST-MODIFIED:20240315T200719Z
UID:1546-1710720000-1710806399@www.eavca.org
SUMMARY:Corporate Finance and Valuation Financial modelling training
DESCRIPTION:Registration link:  Click here \nDate: 18th March 2024 \nDuration: 6 weeks \nVenue: Online
URL:https://www.eavca.org/calendar-events/corporate-finance-and-valuation-financial-modelling-training/
CATEGORIES:EAVCA Event
ATTACH;FMTTYPE=image/png:https://www.eavca.org/wp-content/uploads/2024/01/Financial-Modelling-Training.png
END:VEVENT
BEGIN:VEVENT
DTSTART;TZID=Africa/Nairobi:20240306T080000
DTEND;TZID=Africa/Nairobi:20240309T170000
DTSTAMP:20260423T142041
CREATED:20231207T085341Z
LAST-MODIFIED:20231215T075145Z
UID:1431-1709712000-1710003600@www.eavca.org
SUMMARY:Immerse India 2024
DESCRIPTION:Why India Africa Entrepreneurship Forum? \nThere is a growing realization that despite deep historical\, commercial\, and cultural ties\, the entrepreneurial ecosystems between India and Africa remain to be connected in a meaningful way. Doing so presents a tremendous opportunity to harness the creative capacity of entrepreneurs in both regions to work together to solve common and pressing problems and accelerate trade and investment in the process. This is the mission of the India-Africa Entrepreneurship Forum (IAEF)
URL:https://www.eavca.org/calendar-events/immerse-indian-2024/
LOCATION:Mumbai\, India
CATEGORIES:EAVCA Event
ATTACH;FMTTYPE=image/jpeg:https://www.eavca.org/wp-content/uploads/2023/12/WhatsApp-Image-2023-12-07-at-11.07.301.jpeg
END:VEVENT
BEGIN:VEVENT
DTSTART;VALUE=DATE:20240223
DTEND;VALUE=DATE:20240224
DTSTAMP:20260423T142041
CREATED:20240118T033412Z
LAST-MODIFIED:20240118T033412Z
UID:1540-1708646400-1708732799@www.eavca.org
SUMMARY:EY Seminar
DESCRIPTION:Theme: \nThe Evolving Deal & Transaction Landscape Including Future Trends Seminar \n\nVenue: Radisson Blu Hotel\, Nairobi Upper Hill\nRegistration link: https://forms.office.com/Pages/ResponsePage.aspx?id=mT-XW99360uyfaoMcLhILDPZpb46R55Ij
URL:https://www.eavca.org/calendar-events/ey-seminar/
LOCATION:Radisson Blu Hotel\, Nairobi Upper Hill\, Kenya
CATEGORIES:EAVCA Event
ATTACH;FMTTYPE=image/png:https://www.eavca.org/wp-content/uploads/2024/01/EY-Evolving-Deals.png
END:VEVENT
BEGIN:VEVENT
DTSTART;TZID=Africa/Nairobi:20240130T080000
DTEND;TZID=Africa/Nairobi:20240130T103000
DTSTAMP:20260423T142041
CREATED:20231218T083404Z
LAST-MODIFIED:20240119T201611Z
UID:1520-1706601600-1706610600@www.eavca.org
SUMMARY:Recent Tax Developments for Private Equity & Venture Capital
DESCRIPTION:Are Offshore Disposals of Shares and General Partners’  Income now subject to tax in Kenya? \n What You Need to Know \nVenue: ALN House | 4th Floor\, Banquet House.\nTime: 30th January\, 2024 | 8:00AM – 10:30AM
URL:https://www.eavca.org/calendar-events/recent-tax-developments-for-private-equity-venture-capital/
LOCATION:ALN House\, Eldama Ravine Close\, Off Eldama Ravine Road\, Westlands\,\, Nairobi\, Kenya
CATEGORIES:EAVCA Event,Partner Event
ATTACH;FMTTYPE=image/png:https://www.eavca.org/wp-content/uploads/2023/12/ALN_EAVCA-Event-30th-Jan.png
END:VEVENT
BEGIN:VEVENT
DTSTART;TZID=Africa/Nairobi:20240118T170000
DTEND;TZID=Africa/Nairobi:20240118T190000
DTSTAMP:20260423T142041
CREATED:20231207T083835Z
LAST-MODIFIED:20231215T080821Z
UID:1428-1705597200-1705604400@www.eavca.org
SUMMARY:Uganda Networking Cocktails
DESCRIPTION:
URL:https://www.eavca.org/calendar-events/uganda-netwroking-cocktails/
CATEGORIES:EAVCA Event
ATTACH;FMTTYPE=image/jpeg:https://www.eavca.org/wp-content/uploads/2023/12/WhatsApp-Image-2023-12-07-at-11.07.311.jpeg
END:VEVENT
BEGIN:VEVENT
DTSTART;VALUE=DATE:20231123
DTEND;VALUE=DATE:20231124
DTSTAMP:20260423T142041
CREATED:20231012T080100Z
LAST-MODIFIED:20231030T125640Z
UID:1273-1700697600-1700783999@www.eavca.org
SUMMARY:EAVCA Annual Awards and Gala Dinner
DESCRIPTION:The EAVCA Industry Awards and Gala Dinner proudly returns for the 5th consecutive year\, honoring the best-in-class individuals and transactions that have shaped the region’s private capital deployment \nBuy a Ticket
URL:https://www.eavca.org/calendar-events/eavca-industry-awards-and-gala-dinner-2023-a-celebration-of-private-capital-investing-in-east-africa/
CATEGORIES:EAVCA Event
ATTACH;FMTTYPE=image/jpeg:https://www.eavca.org/wp-content/uploads/2023/10/banner.jpg
END:VEVENT
BEGIN:VEVENT
DTSTART;TZID=Africa/Nairobi:20230914T080000
DTEND;TZID=Africa/Nairobi:20230914T230000
DTSTAMP:20260423T142041
CREATED:20230606T194148Z
LAST-MODIFIED:20230615T125425Z
UID:1064-1694678400-1694732400@www.eavca.org
SUMMARY:7th Annual Private Capital in East Africa Conference
DESCRIPTION:This year marks ten years of EAVCA’s involvement in building the local private capital industry and catalysing investment in East Africa. Over the past decade\, EAVCA has witnessed tremendous growth and achievements\, propelling East Africa into a thriving hub for private capital. What began with seven founding firms has now blossomed into a community of over 100 members\, fostering collaborations that unlock capital for the region. These partnerships have been instrumental in driving economic development and empowering businesses across East Africa. \nThe EAVCA 2023 Annual Private Conference celebrates the private capital industry’s journey\, highlighting the formation and growth of the private capital landscape of East Africa while daring to peer into the industry’s future\, through engaging conversations and plenary sessions
URL:https://www.eavca.org/calendar-events/7th-annual-private-capital-in-east-africa-conference/
CATEGORIES:Conference,EAVCA Event
ATTACH;FMTTYPE=image/jpeg:https://www.eavca.org/wp-content/uploads/2023/06/conference.jpg
END:VEVENT
BEGIN:VEVENT
DTSTART;TZID=Africa/Nairobi:20230628T170000
DTEND;TZID=Africa/Nairobi:20230628T190000
DTSTAMP:20260423T142041
CREATED:20230606T191745Z
LAST-MODIFIED:20230606T191807Z
UID:1055-1687971600-1687978800@www.eavca.org
SUMMARY:Uganda Q2 Networking Cocktails
DESCRIPTION:EAVCA’s Networking Events in Uganda are a series of quarterly evening receptions organized by EAVCA\, its members\, and strategic partners. The receptions are intended to provide private capital industry professionals and practitioners (fund managers\, limited partners\, advisors\, intermediaries) in EAVCA’s membership and industry strategic partners an opportunity to meet\, engage and explore potential areas of synergy amongst themselves. \nThe events provide attendees with an opportunity for knowledge and contact sharing in an informal and relaxed evening setting. \n\n  \nTo RSVP\, contact doris@eavca.org.
URL:https://www.eavca.org/calendar-events/uganda-q2-networking-cocktails/
CATEGORIES:EAVCA Event,Networking
ATTACH;FMTTYPE=image/jpeg:https://www.eavca.org/wp-content/uploads/2023/06/q2ug.jpg
END:VEVENT
BEGIN:VEVENT
DTSTART;TZID=Africa/Nairobi:20230615T170000
DTEND;TZID=Africa/Nairobi:20230615T213000
DTSTAMP:20260423T142041
CREATED:20230606T185648Z
LAST-MODIFIED:20230609T063508Z
UID:1045-1686848400-1686864600@www.eavca.org
SUMMARY:Q2 Networking Cocktails
DESCRIPTION:Please join us for an evening of networking and relaxation during our second social event of the year. \nA fun\, happy hour with prominent industry players\, giving you a chance to connect and relax with a cool drink and inviting ambience. \nRSVP: info@eavca.org
URL:https://www.eavca.org/calendar-events/q2-networking-cocktails/
LOCATION:Kofisi Square\, Riverside Square\, Nairobi\, Kenya
CATEGORIES:EAVCA Event,Networking
ATTACH;FMTTYPE=image/jpeg:https://www.eavca.org/wp-content/uploads/2023/06/WhatsApp-Image-2023-06-09-at-07.52.30.jpeg
ORGANIZER;CN="EAVCA":MAILTO:info@eavca.org
END:VEVENT
BEGIN:VEVENT
DTSTART;TZID=Africa/Nairobi:20230529T080000
DTEND;TZID=Africa/Nairobi:20230531T170000
DTSTAMP:20260423T142041
CREATED:20230414T092852Z
LAST-MODIFIED:20230515T081029Z
UID:1005-1685347200-1685552400@www.eavca.org
SUMMARY:Annual PE Professional Development Programme Training
DESCRIPTION:The EAVCA Professional Development Programme (PDP) is a three- day in person masterclass targeting new entrants into the private capital industry who seek to deepen their knowledge into the workings of private capital. The programme is also suited for professional services providers who wish to reinforce their understanding of the transaction value chain. \nRSVP to: info@eavca.org
URL:https://www.eavca.org/calendar-events/annual-pe-professional-development-programme-training/
CATEGORIES:EAVCA Event,Training
ATTACH;FMTTYPE=image/jpeg:https://www.eavca.org/wp-content/uploads/2023/04/banner.jpg
END:VEVENT
BEGIN:VEVENT
DTSTART;TZID=Africa/Nairobi:20230223T170000
DTEND;TZID=Africa/Nairobi:20230223T213000
DTSTAMP:20260423T142041
CREATED:20230126T081653Z
LAST-MODIFIED:20230126T081653Z
UID:935-1677171600-1677187800@www.eavca.org
SUMMARY:Q1 Networking Cocktails
DESCRIPTION:Please join us for an evening of networking and relaxation during our second social event of the year. \nA fun\, happy hour with prominent industry players\, giving you a chance to connect and relax with a cool drink and inviting ambience.
URL:https://www.eavca.org/calendar-events/q1-networking-cocktails-2023/
CATEGORIES:EAVCA Event,Networking
ATTACH;FMTTYPE=image/jpeg:https://www.eavca.org/wp-content/uploads/2023/01/Web-1.jpg
ORGANIZER;CN="EAVCA":MAILTO:info@eavca.org
END:VEVENT
BEGIN:VEVENT
DTSTART;TZID=Africa/Nairobi:20230214T140000
DTEND;TZID=Africa/Nairobi:20230214T163000
DTSTAMP:20260423T142041
CREATED:20230131T053458Z
LAST-MODIFIED:20230203T062254Z
UID:941-1676383200-1676392200@www.eavca.org
SUMMARY:Alpha Series: A new era in VC
DESCRIPTION:The EAVCA VC Alpha Series event will take place on the side lines of the Africa Tech Summit as a forum that brings together private capital investors within the tech space to connect and share ideas on navigating the prevailing investment landscape in the Africa tech ecosystem. Some of the pertinent issues we hope to cover include: \n\nThe aftermath of 2022 tech sector readjustment: Where does this leave the African Continent as an investment market\nThe Age of AI and ChatGPT: What/ Who are the disruption forces in Africa’s tech ecosystem? Where can we begin to look at for opportunities?\nMaking profitability cool again- profitability vs. scale? Are they mutually exclusive?\nThe ‘X’ factor: Making bank- What returns are realistic for VC in Africa and what would drive these returns in 2023?\nGetting back into the (deal) driver’s seat: How the new environment favors VCs and in what ways can we best capitalize the businesses\n\nEmail jacklyne@eavca.org to register. RSVP is open for senior level professionals in VC. Limited spaces available.
URL:https://www.eavca.org/calendar-events/alpha-series-a-new-era-in-vc/
LOCATION:The Sankara\, Nairobi\, Kenya
CATEGORIES:EAVCA Event
ATTACH;FMTTYPE=image/jpeg:https://www.eavca.org/wp-content/uploads/2023/01/Web-3.jpg
END:VEVENT
BEGIN:VEVENT
DTSTART;TZID=Africa/Nairobi:20230202T150000
DTEND;TZID=Africa/Nairobi:20230202T163000
DTSTAMP:20260423T142041
CREATED:20230131T054813Z
LAST-MODIFIED:20230131T054813Z
UID:945-1675350000-1675355400@www.eavca.org
SUMMARY:Venture Capital Investing Webinar
DESCRIPTION:EAVCA invites you to our second part of a three-part webinar series on Venture Capital and Growth Equity Investing in East Africa\, taking place on Thursday 2nd February 2023 from 3:00pm- 4:30pm EAT. \nEAVCA is hosting the webinar alongside partners: Lowenstein Sandler\, MMAN Advocates and Terralex. \nIn this second part of the webinar series\, we look at emerging issues for VC in Africa from a founder’s lens.
URL:https://www.eavca.org/calendar-events/venture-capital-investing-webinar/
CATEGORIES:EAVCA Event,Webinar
ATTACH;FMTTYPE=image/jpeg:https://www.eavca.org/wp-content/uploads/2023/01/Web-4.jpg
END:VEVENT
BEGIN:VEVENT
DTSTART;TZID=Africa/Nairobi:20230119T170000
DTEND;TZID=Africa/Nairobi:20230119T190000
DTSTAMP:20260423T142041
CREATED:20221207T203110Z
LAST-MODIFIED:20221207T203110Z
UID:919-1674147600-1674154800@www.eavca.org
SUMMARY:Uganda Q4 Networking Cocktails
DESCRIPTION:EAVCA’s Networking Events in Uganda are a series of quarterly evening receptions organized by EAVCA\, its members\, and strategic partners. The receptions are intended to provide private capital industry professionals and practitioners (fund managers\, limited partners\, advisors\, intermediaries) in EAVCA’s membership and industry strategic partners an opportunity to meet\, engage and explore potential areas of synergy amongst themselves. \nThe events provide attendees with an opportunity for knowledge and contact sharing in an informal and relaxed evening setting. BDO East Africa Uganda is the proud sponsor of the Quarter four (Q4)\, 2022 EAVCA Networking Event for Uganda. \n\n  \nTo RSVP\, contact doris@eavca.org.
URL:https://www.eavca.org/calendar-events/uganda-q4-networking-cocktails/
CATEGORIES:EAVCA Event,Networking
ATTACH;FMTTYPE=image/jpeg:https://www.eavca.org/wp-content/uploads/2022/12/ug-q4.jpg
END:VEVENT
BEGIN:VEVENT
DTSTART;TZID=Africa/Nairobi:20221201T180000
DTEND;TZID=Africa/Nairobi:20221201T233000
DTSTAMP:20260423T142041
CREATED:20220825T085855Z
LAST-MODIFIED:20221111T064431Z
UID:824-1669917600-1669937400@www.eavca.org
SUMMARY:EAVCA Annual Gala and Awards Dinner
DESCRIPTION:The EAVCA Annual Gala Dinner will bring together the Private Equity and Venture Capital community at the end of 2022 for an evening of networking and musical entertainment wrapped in a spirit of festivity. \nThe event will also host the EAVCA Industry Awards to recognize and celebrate the industry’s successes in the region. Nominations open on September 1. and will close after 6 weeks. \nThe criteria for submission of awards:\n \n\nDeals done over the past 12 months\n\nSubmission content to not exceed 1000 words (deal numbers highly encouraged)\n\nOne deal per firm for each category\n\nEvery submission must include company name and logo\n\nEastern Africa deals only (Ethiopia\, Kenya\, Rwanda\, Tanzania & Uganda)
URL:https://www.eavca.org/calendar-events/eavca-annual-gala-and-awards-dinner/
CATEGORIES:EAVCA Event,Networking
ATTACH;FMTTYPE=image/jpeg:https://www.eavca.org/wp-content/uploads/2022/08/Website-background.jpg
ORGANIZER;CN="EAVCA":MAILTO:info@eavca.org
END:VEVENT
BEGIN:VEVENT
DTSTART;TZID=Africa/Nairobi:20221117T080000
DTEND;TZID=Africa/Nairobi:20221117T170000
DTSTAMP:20260423T142041
CREATED:20220812T080606Z
LAST-MODIFIED:20220914T113718Z
UID:756-1668672000-1668704400@www.eavca.org
SUMMARY:Venture Capital and Growth Equity Investing in East Africa
DESCRIPTION:EAVCA has partnered with Terralex Partner Firms MMAN Advocates and Lowenstein Sandler to host a three- part web series event on the state of Venture Capital Investing. \nThis event series will bring together experienced tech and emerging company founders with African\, European and U.S. based VC\, Growth PE and other Growth Equity\, Angel investors\, and experienced EC/VC advisors for a series of candid round-table discussions surrounding the burgeoning emerging company\, tech\, and venture capital ecosystem in East Africa. \nPanelists will discuss current challenges in the East-African (and Africa in general) start-up ecosystem and potential solutions based on their varied experience in the startup world. The participants in each event will propose solutions and objectives for building and growing a robust\, connected\, and equitable ecosystem on the African continent for emerging companies\, tech\, and venture capital to thrive in. \n\n  \nCLICK HERE TO REGISTER
URL:https://www.eavca.org/calendar-events/venture-capital-and-growth-equity-investing-in-east-africa/
CATEGORIES:EAVCA Event,Webinar
ATTACH;FMTTYPE=image/jpeg:https://www.eavca.org/wp-content/uploads/2022/08/venture.jpg
ORGANIZER;CN="EAVCA":MAILTO:info@eavca.org
END:VEVENT
BEGIN:VEVENT
DTSTART;TZID=Africa/Nairobi:20221103T080000
DTEND;TZID=Africa/Nairobi:20221103T170000
DTSTAMP:20260423T142041
CREATED:20220812T080947Z
LAST-MODIFIED:20221021T195003Z
UID:761-1667462400-1667494800@www.eavca.org
SUMMARY:EAVCA 3rd Private Capital in Tanzania Conference
DESCRIPTION:EAVCA’s annual Invest in Tanzania conference is a Country focused event that aims at showcasing the market’s investment opportunities. Our theme for the conference this year is “Tanzania’s new era for investment“. \nThis year\, Our Tanzania Country Conference shall take place on Thursday 3rd November 2022 at the Coral Beach Hotel\, Dar Es Salaam. \nJoin us for conversations on the latest happenings in the Tanzania market\, covering among other topics: \n\nCountry diagnostic on the policy and macro landscape of Tanzania\nInvestment opportunities for private equity and venture capital\nInnovation and tech\n\n\n  \nRegister\nPlease enable JavaScript in your browser to complete this form.Name *Email address *OrganisationDesignationRegister
URL:https://www.eavca.org/calendar-events/3rd-private-capital-in-tanzania-conference/
LOCATION:Coral Beach Hotel\, Dar es Salaam\, Tanzania\, United Republic of
CATEGORIES:Conference,EAVCA Event
ATTACH;FMTTYPE=image/jpeg:https://www.eavca.org/wp-content/uploads/2022/08/Tanzania-Web-1.jpg
END:VEVENT
BEGIN:VEVENT
DTSTART;TZID=Africa/Nairobi:20221020T170000
DTEND;TZID=Africa/Nairobi:20221020T190000
DTSTAMP:20260423T142041
CREATED:20221005T120331Z
LAST-MODIFIED:20221005T120331Z
UID:878-1666285200-1666292400@www.eavca.org
SUMMARY:Uganda Q3 Networking Cocktails
DESCRIPTION:EAVCA’s Networking Events in Uganda are a series of quarterly evening receptions organized by EAVCA\, its members\, and strategic partners. The receptions are intended to provide private capital industry professionals and practitioners (fund managers\, limited partners\, advisors\, intermediaries) in EAVCA’s membership and industry strategic partners an opportunity to meet\, engage and explore potential areas of synergy amongst themselves. \nThe events provide attendees with an opportunity for knowledge and contact sharing in an informal and relaxed evening setting. BDO East Africa Uganda is the proud sponsor of the Quarter three (Q3)\, 2022 EAVCA Networking Event for Uganda. \n\n  \nTo RSVP\, contact doris@eavca.org. \n\n  \nClick here to view the photos from the Nairobi networking event.
URL:https://www.eavca.org/calendar-events/uganda-q3-networking-cocktails/
CATEGORIES:EAVCA Event,Networking
ATTACH;FMTTYPE=image/jpeg:https://www.eavca.org/wp-content/uploads/2022/10/UG-Networking.jpg
END:VEVENT
BEGIN:VEVENT
DTSTART;TZID=Africa/Nairobi:20220908T170000
DTEND;TZID=Africa/Nairobi:20220908T213000
DTSTAMP:20260423T142041
CREATED:20220812T075755Z
LAST-MODIFIED:20220825T113842Z
UID:752-1662656400-1662672600@www.eavca.org
SUMMARY:Q3 Networking Cocktails
DESCRIPTION:Please join us for an evening of networking and relaxation during our second social event of the year. \nA fun\, happy hour with prominent industry players\, giving you a chance to connect and relax with a cool drink and inviting ambience.
URL:https://www.eavca.org/calendar-events/q3-networking-cocktails/
LOCATION:Ascent Capital Offices\, Olenguruone Road\, Nairobi\, Nairobi\, Kenya
CATEGORIES:EAVCA Event,Networking
ATTACH;FMTTYPE=image/jpeg:https://www.eavca.org/wp-content/uploads/2022/08/Web.jpg
ORGANIZER;CN="EAVCA":MAILTO:info@eavca.org
END:VEVENT
END:VCALENDAR