BEGIN:VCALENDAR
VERSION:2.0
PRODID:-// - ECPv6.6.3//NONSGML v1.0//EN
CALSCALE:GREGORIAN
METHOD:PUBLISH
X-ORIGINAL-URL:https://www.eavca.org
X-WR-CALDESC:Events for 
REFRESH-INTERVAL;VALUE=DURATION:PT1H
X-Robots-Tag:noindex
X-PUBLISHED-TTL:PT1H
BEGIN:VTIMEZONE
TZID:Africa/Nairobi
BEGIN:STANDARD
TZOFFSETFROM:+0300
TZOFFSETTO:+0300
TZNAME:EAT
DTSTART:20250101T000000
END:STANDARD
END:VTIMEZONE
BEGIN:VEVENT
DTSTART;VALUE=DATE:20250915
DTEND;VALUE=DATE:20250918
DTSTAMP:20260421T182903
CREATED:20250807T092623Z
LAST-MODIFIED:20250807T092623Z
UID:2270-1757894400-1758153599@www.eavca.org
SUMMARY:Annual PE Professional Development Programme (PDP)
DESCRIPTION:EAVCA is proud to announce the launch of the Uganda Chapter’s inaugural Private Equity Professional Development Programme (PDP) — a three-day\, in-person workshop taking place from 26th to 28th August 2024 at Aspire Centre\, Westlands\, Nairobi. Designed for new entrants to the private capital industry and professional service providers seeking a deeper understanding of the private equity transaction value chain\, the PDP will offer practical\, hands-on training led by seasoned investment professionals from across East Africa. Participants will benefit from technical sessions\, case studies\, and peer discussions\, making it an ideal platform to build both skills and industry networks. The participation fee is $750 (exclusive of VAT) for EAVCA members. Register Now to secure your spot. \nRegistration link: Click here
URL:https://www.eavca.org/calendar-events/annual-pe-professional-development-programme-pdp/
LOCATION:MAT Abacus Business School\, Kampala\, Uganda
CATEGORIES:EAVCA Event,Training
ATTACH;FMTTYPE=image/png:https://www.eavca.org/wp-content/uploads/2025/05/Annual-PE-Professional-Development-Programme-PDP-1921-x-1080-px-2.png
ORGANIZER;CN="EAVCA":MAILTO:info@eavca.org
END:VEVENT
END:VCALENDAR