BEGIN:VCALENDAR
VERSION:2.0
PRODID:-// - ECPv6.6.3//NONSGML v1.0//EN
CALSCALE:GREGORIAN
METHOD:PUBLISH
X-ORIGINAL-URL:https://www.eavca.org
X-WR-CALDESC:Events for 
REFRESH-INTERVAL;VALUE=DURATION:PT1H
X-Robots-Tag:noindex
X-PUBLISHED-TTL:PT1H
BEGIN:VTIMEZONE
TZID:Africa/Nairobi
BEGIN:STANDARD
TZOFFSETFROM:+0300
TZOFFSETTO:+0300
TZNAME:EAT
DTSTART:20250101T000000
END:STANDARD
END:VTIMEZONE
BEGIN:VEVENT
DTSTART;TZID=Africa/Nairobi:20250905T140000
DTEND;TZID=Africa/Nairobi:20250905T170000
DTSTAMP:20260421T182919
CREATED:20250819T102909Z
LAST-MODIFIED:20250819T102909Z
UID:2281-1757080800-1757091600@www.eavca.org
SUMMARY:The Compliance Roadmap for African Startups in Delaware Incorporation
DESCRIPTION:Join KPMG on 5 September 2025 at 2:00 PM EAT for The Compliance Roadmap for African Ventures in Delaware\, a virtual event designed to equip African entrepreneurs with the tools to scale globally with confidence. From compliance strategies for U.S. incorporation to real-world success stories and expert legal insights\, this session is your chance to build a solid foundation for growth. Secure your spot today and be part of the conversation shaping Africa’s next wave of global ventures. Register Now.  \nRegistration Link: Click here
URL:https://www.eavca.org/calendar-events/the-compliance-roadmap-for-african-startups-in-delaware-incorporation/
CATEGORIES:Webinar
ATTACH;FMTTYPE=image/png:https://www.eavca.org/wp-content/uploads/2025/08/Finance-Act-Flyer.png
END:VEVENT
END:VCALENDAR