BEGIN:VCALENDAR
VERSION:2.0
PRODID:-// - ECPv6.6.3//NONSGML v1.0//EN
CALSCALE:GREGORIAN
METHOD:PUBLISH
X-ORIGINAL-URL:https://www.eavca.org
X-WR-CALDESC:Events for 
REFRESH-INTERVAL;VALUE=DURATION:PT1H
X-Robots-Tag:noindex
X-PUBLISHED-TTL:PT1H
BEGIN:VTIMEZONE
TZID:Africa/Nairobi
BEGIN:STANDARD
TZOFFSETFROM:+0300
TZOFFSETTO:+0300
TZNAME:EAT
DTSTART:20250101T000000
END:STANDARD
END:VTIMEZONE
BEGIN:VEVENT
DTSTART;TZID=Africa/Nairobi:20250903T080000
DTEND;TZID=Africa/Nairobi:20250903T120000
DTSTAMP:20260421T183538
CREATED:20250901T170017Z
LAST-MODIFIED:20250902T161319Z
UID:2293-1756886400-1756900800@www.eavca.org
SUMMARY:Roundtable Breakfast
DESCRIPTION:We are delighted to invite you to a roundtable breakfast taking place ahead of the EAVCA Conference\, themed Getting Deal Ready\, Making Smarter Investment Calls. The panelists will discuss how in East Africa’s evolving private capital market\, success in a transaction often depends not just on finding the right investment opportunity\, but on how well-prepared the portfolio company is—and how informed the fund is in its approach. \nCheck out the Agenda \nDate: Wednesday\, 3 September 2025\nTime: 8:00am – 12:00pm\nPlace: Capital Club East Africa\, Kilimanjaro Conference Room 6th Floor\nRSVP to cdhevents@cdhlegal.com
URL:https://www.eavca.org/calendar-events/roundtable-breakfast/
LOCATION:Capital Club
CATEGORIES:Conference,EAVCA Event
ATTACH;FMTTYPE=image/png:https://www.eavca.org/wp-content/uploads/2025/09/2.png
END:VEVENT
BEGIN:VEVENT
DTSTART;TZID=Africa/Nairobi:20250903T140000
DTEND;TZID=Africa/Nairobi:20250903T170000
DTSTAMP:20260421T183538
CREATED:20250901T171140Z
LAST-MODIFIED:20250901T171148Z
UID:2306-1756908000-1756918800@www.eavca.org
SUMMARY:GP-Only Roundtable
DESCRIPTION:Date: Wednesday\, 3 September 2025\nTime: 3:00pm – 5:00pm\nVenue: Emara Ole Sereni Hotel \nRSVP to info@eavca.org
URL:https://www.eavca.org/calendar-events/gp-only-roundtable/
LOCATION:Emara Ole-Sereni\, Nairobi\, Kenya
CATEGORIES:Conference,EAVCA Event
ATTACH;FMTTYPE=image/png:https://www.eavca.org/wp-content/uploads/2025/09/GP-Roundtable-flier.png
ORGANIZER;CN="EAVCA":MAILTO:info@eavca.org
END:VEVENT
BEGIN:VEVENT
DTSTART;TZID=Africa/Nairobi:20250903T150000
DTEND;TZID=Africa/Nairobi:20250903T170000
DTSTAMP:20260421T183538
CREATED:20250901T171024Z
LAST-MODIFIED:20250901T171024Z
UID:2304-1756911600-1756918800@www.eavca.org
SUMMARY:LP-Only Roundtable
DESCRIPTION:Date: Wednesday\, 3 September 2025\nTime: 3:00pm – 5:00pm\nVenue: Emara Ole Sereni Hotel \nRSVP to info@eavca.org
URL:https://www.eavca.org/calendar-events/lp-only-roundtable/
LOCATION:Emara Ole-Sereni\, Nairobi\, Kenya
CATEGORIES:Conference,EAVCA Event
ATTACH;FMTTYPE=image/png:https://www.eavca.org/wp-content/uploads/2025/09/LP-Roundtable-flier.png
END:VEVENT
END:VCALENDAR