BEGIN:VCALENDAR
VERSION:2.0
PRODID:-// - ECPv6.6.3//NONSGML v1.0//EN
CALSCALE:GREGORIAN
METHOD:PUBLISH
X-ORIGINAL-URL:https://www.eavca.org
X-WR-CALDESC:Events for 
REFRESH-INTERVAL;VALUE=DURATION:PT1H
X-Robots-Tag:noindex
X-PUBLISHED-TTL:PT1H
BEGIN:VTIMEZONE
TZID:Africa/Nairobi
BEGIN:STANDARD
TZOFFSETFROM:+0300
TZOFFSETTO:+0300
TZNAME:EAT
DTSTART:20250101T000000
END:STANDARD
END:VTIMEZONE
BEGIN:VEVENT
DTSTART;TZID=Africa/Nairobi:20250902T173000
DTEND;TZID=Africa/Nairobi:20250902T173000
DTSTAMP:20260421T182920
CREATED:20250826T123318Z
LAST-MODIFIED:20250826T123353Z
UID:2285-1756834200-1756834200@www.eavca.org
SUMMARY:The Power Table
DESCRIPTION:A Women Investor Only Dinner\nDress Code: Elegent\, Chic\, with a Pop of color \nFor more information email info@eavca.org
URL:https://www.eavca.org/calendar-events/the-power-table/
LOCATION:Emara Ole-Sereni\, Nairobi\, Kenya
CATEGORIES:Conference,EAVCA Event
ATTACH;FMTTYPE=image/png:https://www.eavca.org/wp-content/uploads/2025/08/The-Power-Table.png
ORGANIZER;CN="EAVCA":MAILTO:info@eavca.org
END:VEVENT
END:VCALENDAR